BEGIN:VCALENDAR
VERSION:2.0
PRODID:-//Discover Frome - ECPv4.6.26//NONSGML v1.0//EN
CALSCALE:GREGORIAN
METHOD:PUBLISH
X-WR-CALNAME:Discover Frome
X-ORIGINAL-URL:https://archive.discoverfrome.co.uk
X-WR-CALDESC:Events for Discover Frome
BEGIN:VEVENT
DTSTART;TZID=Europe/London:20240425T193000
DTEND;TZID=Europe/London:20240425T213000
DTSTAMP:20260419T170411
CREATED:20231214T112252Z
LAST-MODIFIED:20231214T112252Z
UID:65975-1714073400-1714080600@archive.discoverfrome.co.uk
SUMMARY:A Bunch of Amateurs
DESCRIPTION:Frome Drama presents A Bunch of Amateurs\, by Ian Hislop and Nick Newman.\nKeen to boost his flagging career\, fading Hollywood action hero Jefferson Steele arrives in England to play King Lear in Stratford only to find that this is not the birthplace of the Bard but a sleepy Suffolk village – and instead of Kenneth Branagh and Dame Judi Dench the cast are a bunch of amateurs trying to save the theatre from developers. Jefferson’s monstrous ego\, vanity and insecurity are tested to the limit by the enthusiastic am-dram thespians. As acting worlds collide and Jefferson’s career implodes\, he discovers some truths about himself along with his inner Lear. \nThis terrific comedy\, written by Ian Hislop (Have I Got News For You) and Nick Newman (Spitting Image) is “packed with killer comic dialogue” (Whatsonstage) and is “deliciously stuffed with Shakespeare…a laugh a minute” (Mail on Sunday). \n
URL:https://archive.discoverfrome.co.uk/event/a-bunch-of-amateurs/
LOCATION:Merlin Theatre\, Bath Road\, Frome\, BA11 2HG 
GEO:51.2412644;-2.3118242
X-APPLE-STRUCTURED-LOCATION;VALUE=URI;X-ADDRESS=Merlin Theatre Bath Road Frome BA11 2HG;X-APPLE-RADIUS=500;X-TITLE=Bath Road:geo:-2.3118242,51.2412644
CATEGORIES:Comedy,Discover Frome,Theatre
ATTACH;FMTTYPE=image/jpeg:https://archive.discoverfrome.co.uk/wp-content/uploads/2023/12/bunch-of-amateurs.jpg
END:VEVENT
END:VCALENDAR