BEGIN:VCALENDAR
VERSION:2.0
PRODID:-//Discover Frome - ECPv4.6.26//NONSGML v1.0//EN
CALSCALE:GREGORIAN
METHOD:PUBLISH
X-WR-CALNAME:Discover Frome
X-ORIGINAL-URL:https://archive.discoverfrome.co.uk
X-WR-CALDESC:Events for Discover Frome
BEGIN:VEVENT
DTSTART;TZID=Europe/London:20240710T193000
DTEND;TZID=Europe/London:20240710T220000
DTSTAMP:20260419T201220
CREATED:20240613T105030Z
LAST-MODIFIED:20240613T105030Z
UID:70344-1720639800-1720648800@archive.discoverfrome.co.uk
SUMMARY:A DAY IN THE LIFE OF THE ENGLISH LANGUAGE
DESCRIPTION:After hearing William Ruff’s talk about the surprising origins of everyday words\, you may never think of tulips\, magazines or toilets in quite the same way – and you’ll certainly be more respectful of your pants! You will also find out why noise can make you feel sick and why explosions were originally made by theatre audiences. \n
URL:https://archive.discoverfrome.co.uk/event/a-day-in-the-life-of-the-english-language/
LOCATION:Holy Trinity Church\, Trinity Street\, Frome\, BA11 3DE
GEO:51.2331678;-2.3271693
X-APPLE-STRUCTURED-LOCATION;VALUE=URI;X-ADDRESS=Holy Trinity Church Trinity Street Frome BA11 3DE;X-APPLE-RADIUS=500;X-TITLE=Trinity Street:geo:-2.3271693,51.2331678
CATEGORIES:Discover Frome,Frome Festival,Spoken word
ATTACH;FMTTYPE=image/jpeg:https://archive.discoverfrome.co.uk/wp-content/uploads/2024/06/English-Lang.jpeg
ORGANIZER;CN="Frome%20Festival":MAILTO:office@fromefestival.co.uk
END:VEVENT
END:VCALENDAR