BEGIN:VCALENDAR
VERSION:2.0
PRODID:-//Discover Frome - ECPv4.6.26//NONSGML v1.0//EN
CALSCALE:GREGORIAN
METHOD:PUBLISH
X-WR-CALNAME:Discover Frome
X-ORIGINAL-URL:https://archive.discoverfrome.co.uk
X-WR-CALDESC:Events for Discover Frome
BEGIN:VEVENT
DTSTART;TZID=Europe/London:20231124T160000
DTEND;TZID=Europe/London:20231124T210000
DTSTAMP:20260419T193150
CREATED:20231121T155958Z
LAST-MODIFIED:20231121T155958Z
UID:63514-1700841600-1700859600@archive.discoverfrome.co.uk
SUMMARY:A Little Night Market
DESCRIPTION:The Frome Independent is celebrating its tenth anniversary this November and offering not just one but two chances to get ahead of the gift buying game. Come along to the Market Yard outside the library from 4pm on Friday 24th November and grab a bite to eat before enjoying the magic of the Light the Night lantern parade and the Frome Christmas Light Switch On.⁠\n⁠\nFollow the lantern parade back around to A Little Night Market and enjoy the festive atmosphere until 9pm. You’ll find local traders selling the best of contemporary craft and design in the South West\, delicious food and drink and some great music to get you in the festive mood. \n
URL:https://archive.discoverfrome.co.uk/event/a-little-night-market-2/
LOCATION:Cattle Market Car Park\, Bridge Street Somerset Frome\, BA11 1BE
GEO:51.2323461;-2.3198961
X-APPLE-STRUCTURED-LOCATION;VALUE=URI;X-ADDRESS=Cattle Market Car Park Bridge Street Somerset Frome BA11 1BE;X-APPLE-RADIUS=500;X-TITLE=Bridge Street Somerset Frome:geo:-2.3198961,51.2323461
CATEGORIES:Christmas,Discover Frome,Food & Drink,Market,Shopping
ATTACH;FMTTYPE=image/jpeg:https://archive.discoverfrome.co.uk/wp-content/uploads/2023/11/little-night-market.jpg
END:VEVENT
END:VCALENDAR