BEGIN:VCALENDAR
VERSION:2.0
PRODID:-//Discover Frome - ECPv4.6.26//NONSGML v1.0//EN
CALSCALE:GREGORIAN
METHOD:PUBLISH
X-WR-CALNAME:Discover Frome
X-ORIGINAL-URL:https://archive.discoverfrome.co.uk
X-WR-CALDESC:Events for Discover Frome
BEGIN:VEVENT
DTSTART;TZID=Europe/London:20231028T190000
DTEND;TZID=Europe/London:20231028T213000
DTSTAMP:20260420T062626
CREATED:20230913T133119Z
LAST-MODIFIED:20230913T133119Z
UID:62641-1698519600-1698528600@archive.discoverfrome.co.uk
SUMMARY:A Night of Lebanese Food and Dance
DESCRIPTION:Deiya like to do things a little differently\, it’s not enough just to have some delicious Lebanese food to tuck into but when it’s all you can eat\, how are you going to burn it off?\nWell with some bellydancing of course! Not only will you have the pleasure of meeting the wonderful Wafaa and taste her wide variety of dishes (with veggie\, vegan and gluten free options!) but you will also get to know some fascinating things about her country\, her culture including the important role and tradition of bellydancing within the Lebanese culture.\nYou will leave feeling like you have had a taste of the country and you would like to come back for more!….whilst being pleasantly surprised about how easily you ended up gracefully sway your hips from side to side by the end of the night! \n
URL:https://archive.discoverfrome.co.uk/event/a-night-of-lebanese-food-and-dance/
LOCATION:Welshmill Hub\, Park Hill Drive\, Frome\, Somerset\, BA11 2LE
CATEGORIES:Community,Dance,Discover Frome,Food & Drink,Music
ATTACH;FMTTYPE=image/jpeg:https://archive.discoverfrome.co.uk/wp-content/uploads/2023/09/deiya-e1694611817585.jpg
ORGANIZER;CN="Deiya":MAILTO:info@deiya.club
END:VEVENT
END:VCALENDAR