BEGIN:VCALENDAR
VERSION:2.0
PRODID:-//Discover Frome - ECPv4.6.26//NONSGML v1.0//EN
CALSCALE:GREGORIAN
METHOD:PUBLISH
X-WR-CALNAME:Discover Frome
X-ORIGINAL-URL:https://archive.discoverfrome.co.uk
X-WR-CALDESC:Events for Discover Frome
BEGIN:VEVENT
DTSTART;TZID=Europe/London:20240525T190000
DTEND;TZID=Europe/London:20240525T233000
DTSTAMP:20260421T105627
CREATED:20240403T145943Z
LAST-MODIFIED:20240403T145943Z
UID:68547-1716663600-1716679800@archive.discoverfrome.co.uk
SUMMARY:A Retrospective of House: Jeremy Healy
DESCRIPTION:A Retrospective of House is coming to the  Cheese and Grain for it’s next Boutique Party\n\nThis event promises to be another sellout with a superb lineup of legendary DJs playing uplifting house music to a party loving crowd.\n\nOur headliner is the one and only DJ and producer Jeremy Healy. Maverick\, innovator\, musical director\, bon viveur and raconteur\, it’s hard to pigeon hole Jeremy. For over 30 years the Peckham born renaissance man has been at the centre of the sweet spot where music\, fashion and hedonism meet\n\nIn the 90s John Kelly earned himself residencies at Cream\, Godskitchen\, Ministry of Sound\, Gatecrasher and in Ibiza he held a residency at the biggest club in the world\, Manumission. These days John continues to raise the roof wherever he goes.\n\nLisa Unique began her career as a house DJ in the 90s playing opening nights for among others\, Fantazia. Lisa has travelled the world DJing and is now one of the promoters behind Retrospective of House as well as owning her own house music label\, Flipside Records. Her knowledge of house music is second to none\n\nPhil Chillum began DJing in the 90s and after being headhunted became the head of A & R at Fantazia. Phil went on to produce 6 Fantazia compilation albums compiling and creating track lists for Jeremy Healy\, Allister Whitehead\, Brandon Block\, Paul Oakenfold and Sonique whilst also playing to huge crowds in the UK and Ibiza.\n\nSo grab your tickets and strap yourself in for an immense night out! Early Bird tickets are on sale now so don’t miss out\n
URL:https://archive.discoverfrome.co.uk/event/a-retrospective-of-house-jeremy-healy/
LOCATION:Cheese and Grain\, Market Yard\, Frome\, BA11 1BE
GEO:51.2318708;-2.3202807
X-APPLE-STRUCTURED-LOCATION;VALUE=URI;X-ADDRESS=Cheese and Grain Market Yard Frome BA11 1BE;X-APPLE-RADIUS=500;X-TITLE=Market Yard:geo:-2.3202807,51.2318708
CATEGORIES:Club Night,Discover Frome,DJ Set,Music,Nightlife
ATTACH;FMTTYPE=image/jpeg:https://archive.discoverfrome.co.uk/wp-content/uploads/2024/04/RoH_Boutique2_Square_1920x1005_01-1536x804-1.jpg
END:VEVENT
END:VCALENDAR