BEGIN:VCALENDAR
VERSION:2.0
PRODID:-//Discover Frome - ECPv4.6.26//NONSGML v1.0//EN
CALSCALE:GREGORIAN
METHOD:PUBLISH
X-WR-CALNAME:Discover Frome
X-ORIGINAL-URL:https://archive.discoverfrome.co.uk
X-WR-CALDESC:Events for Discover Frome
BEGIN:VEVENT
DTSTART;TZID=Europe/London:20230916T100000
DTEND;TZID=Europe/London:20231029T160000
DTSTAMP:20260419T225129
CREATED:20230802T093050Z
LAST-MODIFIED:20230802T093050Z
UID:62051-1694858400-1698595200@archive.discoverfrome.co.uk
SUMMARY:A Visible THREAD
DESCRIPTION:seam collective presents A Visible THREAD; an exhibition which explores the visibility and invisibility of thread. Through their unique perspectives and a diverse range of textile disciplines\, eleven seam artists have created new works to stimulate thought\, connection and conversation. \nThe exhibition aims to encourage viewers to rethink their relationship to thread\, be aware of its materiality\, its sustainability\, its possibilities\, and limitations. Thread\, as cloth\, is woven through our lives. It surrounds us like a second skin. Yet\, precisely because of these close connections\, it becomes almost invisible to us. \nRooted in craft techniques\, work made with thread has historically been seen as ‘women’s work’\, private\, functional\, decorative\, and safe. Cloth itself is still considered a gendered material and there’s a gender divide between ‘high’ art and feminised craft. Whilst thread was\, until recently\, barely visible as a medium in contemporary fine art\, the current national and international upsurge in major exhibitions shows thread emerging as an exciting and radical medium for expression. \n
URL:https://archive.discoverfrome.co.uk/event/a-visible-thread/
LOCATION:Black Swan Arts\, 2 Bridge Street\, Frome\, Somerset\, BA11 2BN\, United Kingdom
GEO:51.2333415;-2.319043
X-APPLE-STRUCTURED-LOCATION;VALUE=URI;X-ADDRESS=Black Swan Arts 2 Bridge Street Frome Somerset BA11 2BN United Kingdom;X-APPLE-RADIUS=500;X-TITLE=2 Bridge Street:geo:-2.319043,51.2333415
CATEGORIES:Arts,Discover Frome,Exhibition
ATTACH;FMTTYPE=image/png:https://archive.discoverfrome.co.uk/wp-content/uploads/2023/08/seam-collective-inpage.png
END:VEVENT
END:VCALENDAR