BEGIN:VCALENDAR
VERSION:2.0
PRODID:-//Discover Frome - ECPv4.6.26//NONSGML v1.0//EN
CALSCALE:GREGORIAN
METHOD:PUBLISH
X-WR-CALNAME:Discover Frome
X-ORIGINAL-URL:https://archive.discoverfrome.co.uk
X-WR-CALDESC:Events for Discover Frome
BEGIN:VEVENT
DTSTART;TZID=Europe/London:20240928T100000
DTEND;TZID=Europe/London:20240928T160000
DTSTAMP:20260420T081232
CREATED:20240919T090405Z
LAST-MODIFIED:20240919T090405Z
UID:72177-1727517600-1727539200@archive.discoverfrome.co.uk
SUMMARY:Adventures at... the Library
DESCRIPTION:Join us for a day of magic and mayhem at Frome Library. \nWe’ll be inventing our own stories\, taking flight around the market\, diving into a treasure hunt and more. \nYou can drop in anytime between 10am – 4pm\, but please book on here for storytelling performances and our treasure hunt to help us to manage numbers. \nWe’ll have craft activities running all day: build and race your perfect paper aeroplane\, create your own banners\, boats and more. \nEveryone is welcome\, although we have designed this event particularly for children aged 4-13 to enjoy with their families. (Frome Library runs ‘Baby Boogie’ on Tuesdays and ‘Toddler Time’ on Fridays at 11am). \nSupported by Frome Town Council & Arts Council England. \nIllustrations by Ben O’Brien. \n
URL:https://archive.discoverfrome.co.uk/event/adventures-at-the-library/
LOCATION:Frome Library\, Justice Lane\, Frome\, BA11 1BE
GEO:51.2324194;-2.3206873
X-APPLE-STRUCTURED-LOCATION;VALUE=URI;X-ADDRESS=Frome Library Justice Lane Frome BA11 1BE;X-APPLE-RADIUS=500;X-TITLE=Justice Lane:geo:-2.3206873,51.2324194
CATEGORIES:Children,crafts,Discover Frome,Family
ATTACH;FMTTYPE=image/jpeg:https://archive.discoverfrome.co.uk/wp-content/uploads/2024/09/terrestrial.jpg
ORGANIZER;CN="Terrestrial":MAILTO:hello@terrestrial.org.uk
END:VEVENT
END:VCALENDAR