BEGIN:VCALENDAR
VERSION:2.0
PRODID:-//Discover Frome - ECPv4.6.26//NONSGML v1.0//EN
CALSCALE:GREGORIAN
METHOD:PUBLISH
X-WR-CALNAME:Discover Frome
X-ORIGINAL-URL:https://archive.discoverfrome.co.uk
X-WR-CALDESC:Events for Discover Frome
BEGIN:VEVENT
DTSTART;TZID=Europe/London:20230719T190000
DTEND;TZID=Europe/London:20230719T204000
DTSTAMP:20260419T131859
CREATED:20230420T093533Z
LAST-MODIFIED:20230420T093533Z
UID:59505-1689793200-1689799200@archive.discoverfrome.co.uk
SUMMARY:Agatha Rex
DESCRIPTION:\nMerlin Youth Theatre presents Agatha Rex \nAdapted by Lindsay Price from Antigone by Sophocles \n\nWhat will be her dreadful fate?\nWhen the trumpet sounds the call\nFor those who stand against the state\nMust first learn how to fall. \nAgatha is a girl who stands up for her beliefs\, regardless of the consequences. As student council president at Thebes High\, she vigorously defends a student who is unfairly punished. Based on her actions\, she could be expelled and lose an important scholarship. \nSet in a modern-day high school\, the play translates the original Greek chorus into a fantastic ensemble opportunity perfect for our Youth Theatre to showcase their talents. \n
URL:https://archive.discoverfrome.co.uk/event/agatha-rex/
LOCATION:Merlin Theatre\, Bath Road\, Frome\, BA11 2HG 
GEO:51.2412644;-2.3118242
X-APPLE-STRUCTURED-LOCATION;VALUE=URI;X-ADDRESS=Merlin Theatre Bath Road Frome BA11 2HG;X-APPLE-RADIUS=500;X-TITLE=Bath Road:geo:-2.3118242,51.2412644
CATEGORIES:Discover Frome,Theatre
ATTACH;FMTTYPE=image/jpeg:https://archive.discoverfrome.co.uk/wp-content/uploads/2023/04/silhouette-of-person-punching-the-air.jpg
ORGANIZER;CN="Merlin%20Theatre":MAILTO:merlintheatremarketing@gmail.com
END:VEVENT
END:VCALENDAR