BEGIN:VCALENDAR
VERSION:2.0
PRODID:-//Discover Frome - ECPv4.6.26//NONSGML v1.0//EN
CALSCALE:GREGORIAN
METHOD:PUBLISH
X-WR-CALNAME:Discover Frome
X-ORIGINAL-URL:https://archive.discoverfrome.co.uk
X-WR-CALDESC:Events for Discover Frome
BEGIN:VEVENT
DTSTART;TZID=Europe/London:20230512T193000
DTEND;TZID=Europe/London:20230512T213000
DTSTAMP:20260420T045431
CREATED:20230104T095024Z
LAST-MODIFIED:20230104T095024Z
UID:57877-1683919800-1683927000@archive.discoverfrome.co.uk
SUMMARY:Alfie Moore: Fair Cop Unleashed
DESCRIPTION:\nJoin BBC Radio 4’s cop-turned-comedian Alfie Moore for his latest stand-up tour show. Fair Cop Unleashed is based on a dramatic real-life incident from Alfie’s police casebook. Relive with him the thrilling ups and downs of the night a mysterious clown came to town and more than one life ended up in the balance. It was no laughing matter – but this show certainly is! \n\nEnjoy Alfie’s unique brand of humour hilariously woven together with his personal insights into his life on the front-line of the police force. \nIt’d be a crime to miss it! \n★★★★ “…offbeat\, revealing and very funny”\nDaily Mail \n★★★★ “…lots of well-crafted jokes and a large dash of police gallows humour”\nTelegraph \n“Brilliantly funny…. genuinely hilarious”\nDavid Mitchell \nRecommended: 14+ \n
URL:https://archive.discoverfrome.co.uk/event/alfie-moore-fair-cop-unleashed/
LOCATION:Merlin Theatre\, Bath Road\, Frome\, BA11 2HG 
GEO:51.2412644;-2.3118242
X-APPLE-STRUCTURED-LOCATION;VALUE=URI;X-ADDRESS=Merlin Theatre Bath Road Frome BA11 2HG;X-APPLE-RADIUS=500;X-TITLE=Bath Road:geo:-2.3118242,51.2412644
CATEGORIES:Comedy,Discover Frome
ATTACH;FMTTYPE=image/jpeg:https://archive.discoverfrome.co.uk/wp-content/uploads/2023/01/Alfie-Moore.jpg
ORGANIZER;CN="Merlin%20Theatre":MAILTO:merlintheatremarketing@gmail.com
END:VEVENT
END:VCALENDAR