BEGIN:VCALENDAR
VERSION:2.0
PRODID:-//Discover Frome - ECPv4.6.26//NONSGML v1.0//EN
CALSCALE:GREGORIAN
METHOD:PUBLISH
X-WR-CALNAME:Discover Frome
X-ORIGINAL-URL:https://archive.discoverfrome.co.uk
X-WR-CALDESC:Events for Discover Frome
BEGIN:VEVENT
DTSTART;TZID=Europe/London:20250712T130000
DTEND;TZID=Europe/London:20250712T233000
DTSTAMP:20260420T002517
CREATED:20250528T115934Z
LAST-MODIFIED:20250528T115934Z
UID:80642-1752325200-1752363000@archive.discoverfrome.co.uk
SUMMARY:All Dayer At Rye Wine Bar\, Bakery & Pizzeria
DESCRIPTION:Head down to The Station for an all-day celebration of great food\, drink and music. Enjoy sets from The Daan Temmink Jazz Trio\, Kevin Brown Blues and guest DJ’s playing afrobeat\, funk and 7-inch rares until late. Explore the excellent selection of culinary delights from across the complex\, with a tap take over from Woodshedding Brewery. \n
URL:https://archive.discoverfrome.co.uk/event/all-dayer-at-rye-wine-bar-bakery-pizzeria/
LOCATION:Rye Bakery\, Wine Bar and Pizzeria\, Unit 1 Station Approach\, Frome\, Somerset\, BA11 1RE\, United Kingdom
CATEGORIES:Community,Concert,Discover Frome,DJ Set,Food & Drink,Frome Festival,Live Band,Music,Wine
ATTACH;FMTTYPE=image/jpeg:https://archive.discoverfrome.co.uk/wp-content/uploads/2025/05/rye-at-the-station.jpg
ORGANIZER;CN="Frome%20Festival":MAILTO:office@fromefestival.co.uk
END:VEVENT
END:VCALENDAR