BEGIN:VCALENDAR
VERSION:2.0
PRODID:-//Discover Frome - ECPv4.6.26//NONSGML v1.0//EN
CALSCALE:GREGORIAN
METHOD:PUBLISH
X-WR-CALNAME:Discover Frome
X-ORIGINAL-URL:https://archive.discoverfrome.co.uk
X-WR-CALDESC:Events for Discover Frome
BEGIN:VEVENT
DTSTART;TZID=Europe/London:20250709T193000
DTEND;TZID=Europe/London:20250709T203000
DTSTAMP:20260419T130038
CREATED:20250528T132255Z
LAST-MODIFIED:20250528T132255Z
UID:80535-1752089400-1752093000@archive.discoverfrome.co.uk
SUMMARY:Amy Webber - Wannabe
DESCRIPTION:‘Wasted degree in opera. Teacher’s Pet. Born in Kent\, raised in Japan. Amy’s new show is a witty musical comedy about bringing your heartfelt teenage lyrics to life. Come along for a deep dive into a disastrous and hilarious series of events in this messy modern world. Expect bangers. \n
URL:https://archive.discoverfrome.co.uk/event/amy-webber-wannabe/
LOCATION:Rook Lane Chapel\, Rook Lane\, Bath Street\, Frome\, BA11 1DN
GEO:51.2292873;-2.3227339
X-APPLE-STRUCTURED-LOCATION;VALUE=URI;X-ADDRESS=Rook Lane Chapel Rook Lane Bath Street Frome BA11 1DN;X-APPLE-RADIUS=500;X-TITLE=Rook Lane\, Bath Street:geo:-2.3227339,51.2292873
CATEGORIES:Comedy,Discover Frome,Frome Festival,Music
ATTACH;FMTTYPE=image/jpeg:https://archive.discoverfrome.co.uk/wp-content/uploads/2025/05/911-AMY-WEBBER-scaled-e1746614675304.jpg
ORGANIZER;CN="Frome%20Festival":MAILTO:office@fromefestival.co.uk
END:VEVENT
END:VCALENDAR