BEGIN:VCALENDAR
VERSION:2.0
PRODID:-//Discover Frome - ECPv4.6.26//NONSGML v1.0//EN
CALSCALE:GREGORIAN
METHOD:PUBLISH
X-WR-CALNAME:Discover Frome
X-ORIGINAL-URL:https://archive.discoverfrome.co.uk
X-WR-CALDESC:Events for Discover Frome
BEGIN:VEVENT
DTSTART;TZID=Europe/London:20240611T191500
DTEND;TZID=Europe/London:20240611T221500
DTSTAMP:20260419T122753
CREATED:20231214T120122Z
LAST-MODIFIED:20231214T120122Z
UID:65992-1718133300-1718144100@archive.discoverfrome.co.uk
SUMMARY:Andrea Chénier
DESCRIPTION:\nThe Royal Opera presents Andrea Chénier. \nStreamed live from the Royal Opera House. \nCo-production with China National Centre for Performing Arts\, Beijing and San Francisco Opera. \n\nAt a glittering party in 18th-century Paris\, the poet Andrea Chénier delivers an impassioned denunciation of Louis XVI. Five years later\, the Revolution has given way to the Terror\, transforming the power balance between Chénier\, his beloved Maddalena\, and Gérard\, the man who could destroy him… \nJonas Kaufmann headlines David McVicar’s spectacular staging\, under the baton of long-time collaborator Antonio Pappano – who conducts Giordano’s epic historical drama of revolution and forbidden love in his last production as Music Director of The Royal Opera. \n
URL:https://archive.discoverfrome.co.uk/event/andrea-chenier/
LOCATION:Merlin Theatre\, Bath Road\, Frome\, BA11 2HG 
GEO:51.2412644;-2.3118242
X-APPLE-STRUCTURED-LOCATION;VALUE=URI;X-ADDRESS=Merlin Theatre Bath Road Frome BA11 2HG;X-APPLE-RADIUS=500;X-TITLE=Bath Road:geo:-2.3118242,51.2412644
CATEGORIES:Discover Frome,Theatre
ATTACH;FMTTYPE=image/jpeg:https://archive.discoverfrome.co.uk/wp-content/uploads/2023/12/andrea.jpg
END:VEVENT
END:VCALENDAR