BEGIN:VCALENDAR
VERSION:2.0
PRODID:-//Discover Frome - ECPv4.6.26//NONSGML v1.0//EN
CALSCALE:GREGORIAN
METHOD:PUBLISH
X-WR-CALNAME:Discover Frome
X-ORIGINAL-URL:https://archive.discoverfrome.co.uk
X-WR-CALDESC:Events for Discover Frome
BEGIN:VEVENT
DTSTART;TZID=Europe/London:20251025T193000
DTEND;TZID=Europe/London:20251025T193000
DTSTAMP:20260420T200148
CREATED:20250206T110700Z
LAST-MODIFIED:20250206T110700Z
UID:74550-1761420600-1761420600@archive.discoverfrome.co.uk
SUMMARY:Andrew Bourn's Crooner Revolution
DESCRIPTION:​​A captivating new swing show with a modern twist! \nFeaturing unique swing style arrangements of songs from global artists such as Queen\, \nThe Rolling Stones\, George Michael\, Elton John\, Radiohead\, Prince\, Bee Gees\, Tom Jones\, \nRick Astley and more! As well as huge\, well loved hits from Michael Buble and Sinatra and co along the way! \nFar from a standard tribute show\, this live production includes an eclectic mix of music from multiple decades and has a fun\, youthful energy which always gets audiences singing along! Featuring a fabulous 7 piece band of West End big band musicians\, it has a modern appeal for this nostalgic genre and offers something for all generations. \nAndrew’s success began in 2014 when he burst on to the scene as part of the much loved Britain’s Got Talent swing group ‘Jack Pack’. \nA global adventure ensued\, including a recording contract with Simon Cowell and a UK top ten album. The band enjoyed multiple TV appearances (Xtra Factor\, Strictly Come Dancing\, Sunday Night at the Palladium) and live radio performances (Graham Norton\, Terry Wogan and Ken Bruce) and performed alongside artists such as Katy Perry\, Take That and Jessie J. \nMore recently Andrew appeared on ITV’s ‘Starstruck’\, where he stepped into the shoes of Frank Sinatra\, reaching the finals of the show and gaining further reputation and acclaim. \n“Definitely a star!” – ADAM LAMBERT \n“Wow! – BEVERLEY KNIGHT \nAndrew has had the honour of singing for and meeting HM King Charles III at the Royal Palaces and delivered ‘bucket list’ shows at both The Royal Albert Hall and Proms in the Park\, performing at the latter for an audience of 50\,000. \n
URL:https://archive.discoverfrome.co.uk/event/andrew-bourns-crooner-revolution/
LOCATION:Frome Memorial Theatre\, Christchurch Street West\, Frome\, BA11 1EB
GEO:51.2291809;-2.3240101
X-APPLE-STRUCTURED-LOCATION;VALUE=URI;X-ADDRESS=Frome Memorial Theatre Christchurch Street West Frome BA11 1EB;X-APPLE-RADIUS=500;X-TITLE=Christchurch Street West:geo:-2.3240101,51.2291809
CATEGORIES:Discover Frome,Live Band,Music,Theatre
ATTACH;FMTTYPE=image/png:https://archive.discoverfrome.co.uk/wp-content/uploads/2025/02/CR-1920-x-1080.png
END:VEVENT
END:VCALENDAR