BEGIN:VCALENDAR
VERSION:2.0
PRODID:-//Discover Frome - ECPv4.6.26//NONSGML v1.0//EN
CALSCALE:GREGORIAN
METHOD:PUBLISH
X-WR-CALNAME:Discover Frome
X-ORIGINAL-URL:https://archive.discoverfrome.co.uk
X-WR-CALDESC:Events for Discover Frome
BEGIN:VEVENT
DTSTART;TZID=Europe/London:20240921T110000
DTEND;TZID=Europe/London:20240929T170000
DTSTAMP:20260421T125355
CREATED:20240916T155611Z
LAST-MODIFIED:20240916T155611Z
UID:72076-1726916400-1727629200@archive.discoverfrome.co.uk
SUMMARY:Autumn Search & See Scavenger Hunt
DESCRIPTION:September is the month Autumn begins\, and to celebrate we have a fun activity for children to enjoy. Come and complete our Search and See Scavenger Hunt at Palette and Pasture and win a sweetie prize! \nWeekends in September – £2.50 per child \n
URL:https://archive.discoverfrome.co.uk/event/autumn-search-see-scavenger-hunt/
LOCATION:Palette and Pasture\, Pyle Farm\, Trudoxhill\, Somerset\, BA11 5DL\, United Kingdom
CATEGORIES:Children,Discover Frome,Family
ATTACH;FMTTYPE=image/jpeg:https://archive.discoverfrome.co.uk/wp-content/uploads/2024/09/457863729_969206195219899_218209010182182967_n1.jpg
END:VEVENT
END:VCALENDAR