BEGIN:VCALENDAR
VERSION:2.0
PRODID:-//Discover Frome - ECPv4.6.26//NONSGML v1.0//EN
CALSCALE:GREGORIAN
METHOD:PUBLISH
X-WR-CALNAME:Discover Frome
X-ORIGINAL-URL:https://archive.discoverfrome.co.uk
X-WR-CALDESC:Events for Discover Frome
BEGIN:VEVENT
DTSTART;TZID=Europe/London:20240206T120000
DTEND;TZID=Europe/London:20240206T133000
DTSTAMP:20260420T045431
CREATED:20240202T122640Z
LAST-MODIFIED:20240202T122640Z
UID:67512-1707220800-1707226200@archive.discoverfrome.co.uk
SUMMARY:Baby Takeover
DESCRIPTION:Parent and baby\, play and learn. Indulge the senses of your babies with textures\, sounds and lights; play and move creatively together; connect with other parents. As we play\, we’ll share tips and tricks in helping babies to be their best.  Right next door we have The Rye Bakery serving up delicious coffees and cakes\, which you can bring along and enjoy. \n\nEvery Tuesday 12pm – 1.30pm\nRefreshments can be enjoyed from the Rye Bakery\nSuitable for children up to 2 years\nParental supervision required (adults go free)\n£7 per baby\, discount for group bookings please email to enquire.\n\n
URL:https://archive.discoverfrome.co.uk/event/baby-takeover/
LOCATION:The Awesome Studio\, Station Approach\, Frome\, BA11 1RE\, United Kingdom
CATEGORIES:Children,Community,Discover Frome,Family,social
ATTACH;FMTTYPE=image/png:https://archive.discoverfrome.co.uk/wp-content/uploads/2024/02/baby.png
ORGANIZER;CN="Super%20Pirates":MAILTO:events@superpirates.co.uk
END:VEVENT
END:VCALENDAR