BEGIN:VCALENDAR
VERSION:2.0
PRODID:-//Discover Frome - ECPv4.6.26//NONSGML v1.0//EN
CALSCALE:GREGORIAN
METHOD:PUBLISH
X-WR-CALNAME:Discover Frome
X-ORIGINAL-URL:https://archive.discoverfrome.co.uk
X-WR-CALDESC:Events for Discover Frome
BEGIN:VEVENT
DTSTART;TZID=Europe/London:20230518T193000
DTEND;TZID=Europe/London:20230518T230000
DTSTAMP:20260419T172053
CREATED:20230509T142633Z
LAST-MODIFIED:20230509T142633Z
UID:60087-1684438200-1684450800@archive.discoverfrome.co.uk
SUMMARY:Blythe Pepino (of Mesadorm)
DESCRIPTION:Night River Presents: Blythe Pepino \nWe are very proud to welcome back Blythe for her second show at HydeAway following an utterly breathtaking sold out performance last year. \nBlythe Pepino is the immensely talented singer and songwriter for Mesadorm\, an exciting band formed in Bristol who conjure a sound that nods to Björk\, Kate Bush\, Joni Mitchell and Radiohead. \nFor this night she will perform a rare solo show\, accommpanied by a piano and her incredibly unique and affecting voice. \nWith a lifelong interest in the voice\, she is an advocate and teacher for self-healing through vocal resonance. Eliciting both tears and laughter from her audiences her voice is as versatile in emotion as it is in range and tone. Although she has graced stadium size venues and reached major record label prominence\, she now covets full creative control over her releases and shines bright in intimate performance spaces. \n“Some of the most interesting music this year” – The Guardian \n“A beautiful record” – Huw Stephens\, BBC Radio 1 \n“I’m absolutely addicted. Really beautiful\, I love it!” – Lauren Laverne\, BBC 6 Music \nDon’t miss this chance to see her in the beautiful HydeAway\, Frome. Only 30 tickets available. These shows usually sell out\, so early booking is advised. \nDoors 7.30pm\, time to find your seat and get a drink. Music starts 8.30pm \n
URL:https://archive.discoverfrome.co.uk/event/blythe-pepino-of-mesadorm-2/
LOCATION:Hydeaway\, Search for the Eagle\, Frome\, BA11 1DR\, United Kingdom
CATEGORIES:Discover Frome,Music
ATTACH;FMTTYPE=image/jpeg:https://archive.discoverfrome.co.uk/wp-content/uploads/2023/05/Blythe-Pepino.jpg
ORGANIZER;CN="Night%20River":MAILTO:nightriverpresents@gmail.com
END:VEVENT
END:VCALENDAR