BEGIN:VCALENDAR
VERSION:2.0
PRODID:-//Discover Frome - ECPv4.6.26//NONSGML v1.0//EN
CALSCALE:GREGORIAN
METHOD:PUBLISH
X-WR-CALNAME:Discover Frome
X-ORIGINAL-URL:https://archive.discoverfrome.co.uk
X-WR-CALDESC:Events for Discover Frome
BEGIN:VEVENT
DTSTART;TZID=Europe/London:20230626T193000
DTEND;TZID=Europe/London:20230626T213000
DTSTAMP:20260421T082334
CREATED:20230525T131729Z
LAST-MODIFIED:20230525T131729Z
UID:61041-1687807800-1687815000@archive.discoverfrome.co.uk
SUMMARY:Book launch: Chris Smaje's 'Saying NO to a Farm-Free Future'
DESCRIPTION:Local author Chris Smaje launches his new book ‘Saying NO to a Farm-Free Future: The Case for an Ecological Food System and Against Manufactured Foods’. \nChris will be in discussion about the book with ffinlo Costain of 8.9ha and Rowan Phillimore of the Gaia Foundation. The book is for sale at the event courtesy of Hunting Raven books. \n
URL:https://archive.discoverfrome.co.uk/event/book-launch-chris-smajes-saying-no-to-a-farm-free-future/
LOCATION:Rye Bakery\, 22 Whittox Ln\, Frome\, BA11 3BZ
GEO:51.2318076;-2.3242732
X-APPLE-STRUCTURED-LOCATION;VALUE=URI;X-ADDRESS=Rye Bakery 22 Whittox Ln Frome BA11 3BZ;X-APPLE-RADIUS=500;X-TITLE=22 Whittox Ln:geo:-2.3242732,51.2318076
CATEGORIES:Discover Frome,Talk
ATTACH;FMTTYPE=image/jpeg:https://archive.discoverfrome.co.uk/wp-content/uploads/2023/05/Saying-NO-book.jpg
ORGANIZER;CN="Chris%20Smaje":MAILTO:smallfarmfuture.private@protonmail.com
END:VEVENT
END:VCALENDAR