BEGIN:VCALENDAR
VERSION:2.0
PRODID:-//Discover Frome - ECPv4.6.26//NONSGML v1.0//EN
CALSCALE:GREGORIAN
METHOD:PUBLISH
X-WR-CALNAME:Discover Frome
X-ORIGINAL-URL:https://archive.discoverfrome.co.uk
X-WR-CALDESC:Events for Discover Frome
BEGIN:VEVENT
DTSTART;TZID=Europe/London:20250221T190000
DTEND;TZID=Europe/London:20250221T230000
DTSTAMP:20260419T200849
CREATED:20241212T163516Z
LAST-MODIFIED:20241212T163516Z
UID:73470-1740164400-1740178800@archive.discoverfrome.co.uk
SUMMARY:Bootleg Blondie
DESCRIPTION:BOOTLEG BLONDIE \nis the world’s No.1 official \nDebbie Harry & Blondie tribute band \nEstablished in 2001 this band is the only tribute to have performed with two original founder members of Blondie\, legendary drummer Clem Burke and songwriter\, bass player and author Gary Valentine. BB had the honour to be thanked on Blondie’s 11thalbum ‘Pollinator’ and have played at the world famous CBGB in New York City. In 2019\, to celebrate 40 years since the release of Blondie’s iconic album “Parallel Lines” Bootleg Blondie played two UKtours with Clem Burke under the band name CBBB (Clem Burke & Bootleg Blondie). Both tours were a whirlwind of sell out shows\, radio\, press interviews and fab reviews\, driving nearly 5\,000 miles and performing to over 7\,000 people\, also releasing anoriginal single ‘Enigma Soho Au Go Go’ to coincide with the tours which is available through AppleMusic\, Spotify\, Deezer\, and itunes.  \nClem Burke and Bootleg Blondie are currently writing songs for a rock opera about London. Check out Clem’s youtube L.A. interview youtube.com/watch?v=2lwj07Sd-MU \n
URL:https://archive.discoverfrome.co.uk/event/bootleg-blondie-3/
LOCATION:Cheese and Grain\, Market Yard\, Frome\, BA11 1BE
GEO:51.2318708;-2.3202807
X-APPLE-STRUCTURED-LOCATION;VALUE=URI;X-ADDRESS=Cheese and Grain Market Yard Frome BA11 1BE;X-APPLE-RADIUS=500;X-TITLE=Market Yard:geo:-2.3202807,51.2318708
CATEGORIES:Concert,Discover Frome,Live Band,Music,Nightlife
ATTACH;FMTTYPE=image/webp:https://archive.discoverfrome.co.uk/wp-content/uploads/2024/12/Bootleg-Blondie-Debbie-stage-1-2023.webp
END:VEVENT
END:VCALENDAR