BEGIN:VCALENDAR
VERSION:2.0
PRODID:-//Discover Frome - ECPv4.6.26//NONSGML v1.0//EN
CALSCALE:GREGORIAN
METHOD:PUBLISH
X-WR-CALNAME:Discover Frome
X-ORIGINAL-URL:https://archive.discoverfrome.co.uk
X-WR-CALDESC:Events for Discover Frome
BEGIN:VEVENT
DTSTART;TZID=Europe/London:20240714T110000
DTEND;TZID=Europe/London:20240714T120000
DTSTAMP:20260419T183003
CREATED:20240620T102836Z
LAST-MODIFIED:20240620T103033Z
UID:70607-1720954800-1720958400@archive.discoverfrome.co.uk
SUMMARY:BOULDERING WORKSHOP
DESCRIPTION:Join Frome Boulder Rooms for family-friendly bouldering workshops\, perfect for beginners or those wanting to improve their skills aged 5 years and up. Our experienced instructors will guide you through the basics of bouldering in a safe and supportive environment\, teaching technique and safety tips along the way. Group size: 8. Kit and entry to the centre included. \n
URL:https://archive.discoverfrome.co.uk/event/bouldering-workshop-2/2024-07-14/
LOCATION:Frome Boulder Rooms\, Unit 3 & 4\, The Cotton Works\, Vallis Road\, Frome\, BA11 3EN\, United Kingdom
CATEGORIES:Children,Discover Frome,Family,Frome Festival
ATTACH;FMTTYPE=image/png:https://archive.discoverfrome.co.uk/wp-content/uploads/2024/06/Climbing.png
ORGANIZER;CN="Frome%20Festival":MAILTO:office@fromefestival.co.uk
END:VEVENT
END:VCALENDAR