BEGIN:VCALENDAR
VERSION:2.0
PRODID:-//Discover Frome - ECPv4.6.26//NONSGML v1.0//EN
CALSCALE:GREGORIAN
METHOD:PUBLISH
X-WR-CALNAME:Discover Frome
X-ORIGINAL-URL:https://archive.discoverfrome.co.uk
X-WR-CALDESC:Events for Discover Frome
BEGIN:VEVENT
DTSTART;TZID=Europe/London:20231123T193000
DTEND;TZID=Europe/London:20231123T233000
DTSTAMP:20260419T230605
CREATED:20230822T105101Z
LAST-MODIFIED:20230822T105119Z
UID:62346-1700767800-1700782200@archive.discoverfrome.co.uk
SUMMARY:Brian Bilston
DESCRIPTION:Brian Bilston has been described as the Banksy of poetry and Twitter’s unofficial Poet Laureate; with over 200\,000 followers on social media\, Brian has become truly beloved by the online community. His first collection of poetry\, You Took the Last Bus Home\, was published by Unbound. Diary of a Somebody (Picador) was shortlisted for the Costa First Novel Award and the McKitterick Prize. Alexa\, What Is There To Know About Love?\, his last collection\, was described by one reviewer as ‘the funniest collection of humorous verse I have seen in a long time’. His poem ‘Refugees’ was set to music by Mark-Anthony Turnage for his 2019 song cycle of the same name\, and Fifty Ways to Score a Goal\, a collection of poems about football for children\, was published in 2021. Days Like These: An Alternative Guide to the Year in 366 Poems is his latest book and is out now in hardback\, a brilliant collection of poems that will take the blues out of Monday\, flatten the Wednesday hump and amplify that Friday feeling\, from January through to December. \nSocials:\nbrianbilston.com/\nTwitter: @brian_bilston\nInstagram: @brian_bilston \n
URL:https://archive.discoverfrome.co.uk/event/brian-bilston/
LOCATION:Cheese and Grain\, Market Yard\, Frome\, BA11 1BE
GEO:51.2318708;-2.3202807
X-APPLE-STRUCTURED-LOCATION;VALUE=URI;X-ADDRESS=Cheese and Grain Market Yard Frome BA11 1BE;X-APPLE-RADIUS=500;X-TITLE=Market Yard:geo:-2.3202807,51.2318708
CATEGORIES:Discover Frome,Spoken word
ATTACH;FMTTYPE=image/jpeg:https://archive.discoverfrome.co.uk/wp-content/uploads/2023/08/293240303_410535677780820_4979908103079753539_n-1024x453-1.jpg
END:VEVENT
END:VCALENDAR