BEGIN:VCALENDAR
VERSION:2.0
PRODID:-//Discover Frome - ECPv4.6.26//NONSGML v1.0//EN
CALSCALE:GREGORIAN
METHOD:PUBLISH
X-WR-CALNAME:Discover Frome
X-ORIGINAL-URL:https://archive.discoverfrome.co.uk
X-WR-CALDESC:Events for Discover Frome
BEGIN:VEVENT
DTSTART;TZID=Europe/London:20241026T140000
DTEND;TZID=Europe/London:20241026T170000
DTSTAMP:20260421T123659
CREATED:20241018T151550Z
LAST-MODIFIED:20241018T151550Z
UID:72749-1729951200-1729962000@archive.discoverfrome.co.uk
SUMMARY:Buddhism in daily life: Blooming Buddhists
DESCRIPTION:Come along and have a chat to find out more about Soka Gakkai Buddhism\, an everyday practice for everyone.\nThe event is on Saturday 26th October at the Old School Room in Rise. Drop in between 2pm and 5pm – it’s free for everyone.\nBuddhism is about enabling us all to become happy whatever our circumstances\, and to be the best version of ourselves. By chanting\, all sorts of problems can be overcome and positively changed. Includes a small exhibition and a talk.\nWe promote peace\, culture and education based on a humanistic philosophy. We look forward to seeing you. Contact: katecochrane18@gmail.com \n
URL:https://archive.discoverfrome.co.uk/event/buddhism-in-daily-life-blooming-buddhists/
LOCATION:RISE\, Whittox Lane\, Frome\, BA11 3BY
CATEGORIES:Discover Frome,Health & Wellbeing,spirituality
ATTACH;FMTTYPE=image/png:https://archive.discoverfrome.co.uk/wp-content/uploads/2024/10/Sgi-UK.png
ORGANIZER;CN="Kate%20Cochrane":MAILTO:info@fromeopenstudios.co.uk 
END:VEVENT
END:VCALENDAR