BEGIN:VCALENDAR
VERSION:2.0
PRODID:-//Discover Frome - ECPv4.6.26//NONSGML v1.0//EN
CALSCALE:GREGORIAN
METHOD:PUBLISH
X-WR-CALNAME:Discover Frome
X-ORIGINAL-URL:https://archive.discoverfrome.co.uk
X-WR-CALDESC:Events for Discover Frome
BEGIN:VEVENT
DTSTART;TZID=Europe/London:20250712T140000
DTEND;TZID=Europe/London:20250712T160000
DTSTAMP:20260420T051754
CREATED:20250528T120600Z
LAST-MODIFIED:20250528T120600Z
UID:80652-1752328800-1752336000@archive.discoverfrome.co.uk
SUMMARY:Cacao Ceremony And Sound Bath
DESCRIPTION:Step into deep relaxation with a heart-opening cacao ceremony and transformative sound bath. Experience the healing vibrations of crystal bowls\, gongs and more as you reconnect with yourself. Hosted by Ali Hutchinson & Lisa Rothnie\, passionate energy healers. Bring a yoga mat\, blanket and anything you need to stay warm. \n
URL:https://archive.discoverfrome.co.uk/event/cacao-ceremony-and-sound-bath-2/
LOCATION:Rook Lane Chapel\, Rook Lane\, Bath Street\, Frome\, BA11 1DN
GEO:51.2292873;-2.3227339
X-APPLE-STRUCTURED-LOCATION;VALUE=URI;X-ADDRESS=Rook Lane Chapel Rook Lane Bath Street Frome BA11 1DN;X-APPLE-RADIUS=500;X-TITLE=Rook Lane\, Bath Street:geo:-2.3227339,51.2292873
CATEGORIES:Discover Frome,Frome Festival,Health & Wellbeing,spirituality,Workshop
ATTACH;FMTTYPE=image/jpeg:https://archive.discoverfrome.co.uk/wp-content/uploads/2025/05/cacao-ceremony.jpg
ORGANIZER;CN="Frome%20Festival":MAILTO:office@fromefestival.co.uk
END:VEVENT
END:VCALENDAR