BEGIN:VCALENDAR
VERSION:2.0
PRODID:-//Discover Frome - ECPv4.6.26//NONSGML v1.0//EN
CALSCALE:GREGORIAN
METHOD:PUBLISH
X-WR-CALNAME:Discover Frome
X-ORIGINAL-URL:https://archive.discoverfrome.co.uk
X-WR-CALDESC:Events for Discover Frome
BEGIN:VEVENT
DTSTART;TZID=Europe/London:20240201T183000
DTEND;TZID=Europe/London:20240201T200000
DTSTAMP:20260419T164625
CREATED:20240131T164132Z
LAST-MODIFIED:20240201T112545Z
UID:67465-1706812200-1706817600@archive.discoverfrome.co.uk
SUMMARY:Cacao & Rose meditation ritual + sound bath
DESCRIPTION:If you have never tried ceremonial cacao before or long for more warmth\, supporting love\, and a caring circle space\, I invite you to join one of my cacao & rose circles twice a month in my home meditation space in Frome.\n\nI love to share my devotion for mama cacao with you\, guide you through a meditation and drinking ritual\, and gently hold space for your unique connection experience with her to unfold. The circle will end with a soothing crystal bowl sound bath to allow you to soften even more and receive all the nourishment you need.\n\n\nAll details via the link below:\nhttps://www.elisaceleste.co.uk/radical-care-inperson\n\n
URL:https://archive.discoverfrome.co.uk/event/cacao-rose-meditation-ritual-sound-bath/2024-02-01/
CATEGORIES:Discover Frome,Health & Wellbeing,Music
ATTACH;FMTTYPE=image/jpeg:https://archive.discoverfrome.co.uk/wp-content/uploads/2024/01/elisa.jpg
ORGANIZER;CN="Elisa%20Celeste":MAILTO:hello@elisaceleste.co.uk
END:VEVENT
END:VCALENDAR