BEGIN:VCALENDAR
VERSION:2.0
PRODID:-//Discover Frome - ECPv4.6.26//NONSGML v1.0//EN
CALSCALE:GREGORIAN
METHOD:PUBLISH
X-WR-CALNAME:Discover Frome
X-ORIGINAL-URL:https://archive.discoverfrome.co.uk
X-WR-CALDESC:Events for Discover Frome
BEGIN:VEVENT
DTSTART;TZID=Europe/London:20250620T170000
DTEND;TZID=Europe/London:20250620T190000
DTSTAMP:20260420T134310
CREATED:20250612T095721Z
LAST-MODIFIED:20250617T090335Z
UID:81144-1750438800-1750446000@archive.discoverfrome.co.uk
SUMMARY:Canteen - Pop-up Community Restaurant
DESCRIPTION:Canteen\, the Pay-What-You-Can community restaurant is returning this month dishing up more affordable and delicious food. \nThe project has been set up by the Frome Food Network to improve wellbeing in the town and aims to give wider access to responsibly-sourced\, well-cooked\, delicious food and to bridge the gap between local food and local people. \nThe next Canteen is on Friday 20 June at Trinity Hall\, Frome\, from 5pm to 7pm. \nOrganisers said: “Another community feast is on its way. Come along for wholesome\, delicious food prepped from ingredients supplied by local farms and market gardens. And perhaps best of all\, pay whatever you’d like for it. As always\, no reservations are needed – just come hungry and ready to share a meal with friends\, family and neighbours. \n
URL:https://archive.discoverfrome.co.uk/event/canteen-pop-up-community-restaurant/
LOCATION:Holy Trinity Church Hall\, Trinity Street\, Frome\, BA113DE
GEO:51.2331678;-2.3271693
X-APPLE-STRUCTURED-LOCATION;VALUE=URI;X-ADDRESS=Holy Trinity Church Hall Trinity Street Frome BA113DE;X-APPLE-RADIUS=500;X-TITLE=Trinity Street:geo:-2.3271693,51.2331678
CATEGORIES:Children,Community,Discover Frome,Family,Food & Drink,Health & Wellbeing,Sustainability
ATTACH;FMTTYPE=image/jpeg:https://archive.discoverfrome.co.uk/wp-content/uploads/2024/10/canteen.jpg
ORGANIZER;CN="Frome%20Food%20Network":MAILTO:hugh@fromefoodnetwork.co.uk
END:VEVENT
END:VCALENDAR