BEGIN:VCALENDAR
VERSION:2.0
PRODID:-//Discover Frome - ECPv4.6.26//NONSGML v1.0//EN
CALSCALE:GREGORIAN
METHOD:PUBLISH
X-WR-CALNAME:Discover Frome
X-ORIGINAL-URL:https://archive.discoverfrome.co.uk
X-WR-CALDESC:Events for Discover Frome
BEGIN:VEVENT
DTSTART;TZID=Europe/London:20250907T193000
DTEND;TZID=Europe/London:20250907T193000
DTSTAMP:20260420T195838
CREATED:20250624T114906Z
LAST-MODIFIED:20250624T114906Z
UID:81277-1757273400-1757273400@archive.discoverfrome.co.uk
SUMMARY:Cesare performed by Somerset Opera
DESCRIPTION:Directed by Edwina Strobl (Royal Opera House\, Opera Holland Park) and with musical direction and conducted by Noah Mosely (English Touring Opera\, English National Opera)\nCesare\, head of the Parish Council of Romebury\, is visiting a neighbouring village for a game of cricket. Romebury are triumphant\, and Cesare congratulates the opposition on a well-played match and superlative spread\, but upstart Tolomeo is indignant in defeat. Who will win the bake off? Whose vegetables deserve a rosette\, and will Cesare be able to navigate village politics and bring peace\, prosperity\, and pleasure to warring factions? Or will there be blood among the bunting…\nSung in English with a fresh libretto\, this outrageous production will delight avid opera lovers and those new to the genre. Running at 2 hours including interval\, and accompanied by the Taunton Sinfonietta come experience world-class music with a distinctly South West twist.\n
URL:https://archive.discoverfrome.co.uk/event/cesare-performed-by-somerset-opera/
LOCATION:Frome Memorial Theatre\, Christchurch Street West\, Frome\, BA11 1EB
GEO:51.2291809;-2.3240101
X-APPLE-STRUCTURED-LOCATION;VALUE=URI;X-ADDRESS=Frome Memorial Theatre Christchurch Street West Frome BA11 1EB;X-APPLE-RADIUS=500;X-TITLE=Christchurch Street West:geo:-2.3240101,51.2291809
CATEGORIES:Comedy,Discover Frome,Music,Opera,Theatre
ATTACH;FMTTYPE=image/png:https://archive.discoverfrome.co.uk/wp-content/uploads/2025/06/cesare.png
END:VEVENT
END:VCALENDAR