BEGIN:VCALENDAR
VERSION:2.0
PRODID:-//Discover Frome - ECPv4.6.26//NONSGML v1.0//EN
CALSCALE:GREGORIAN
METHOD:PUBLISH
X-WR-CALNAME:Discover Frome
X-ORIGINAL-URL:https://archive.discoverfrome.co.uk
X-WR-CALDESC:Events for Discover Frome
BEGIN:VEVENT
DTSTART;TZID=Europe/London:20231202T080000
DTEND;TZID=Europe/London:20231202T163000
DTSTAMP:20260419T230906
CREATED:20231018T153135Z
LAST-MODIFIED:20231018T153135Z
UID:63043-1701504000-1701534600@archive.discoverfrome.co.uk
SUMMARY:Charity Santa Abseil on behalf of St Margaret’s Hospice
DESCRIPTION:It’s back! Take on our charity Santa Abseil challenge at Cheddar Gorge. For its second year\, you can take on our much anticipated and thrilling Santa Abseil challenge\, tackling a 60ft drop over the breath-taking views of Cheddar Gorge. The challenge\, abseil one of Britain’s most spectacular natural landmarks\, all while dressed as Santa! This year there will be two abseil ropes\, to give more people a chance to take part and enjoy supporting their local hospice\, as well as give you the fun opportunity to abseil next to a friend! Places are limited\, so book now to avoid disappointment. No previous abseil experience necessary. \nWe can accept 12 people per 30-minute slot\, please book into your preferred time slot. Each abseiler must pay £35 to secure their place as well as pledge to raise at least £125.\nYour registration fee covers the cost of the abseil and your Santa Suit. By registering you automatically create a fundraising page which means you can start raising money straight away! \nFor more information about the event please contact the Marketing and Events Officer on 01935 709182 or email Amy.Garland@st-margarets-hospice.org.uk \n
URL:https://archive.discoverfrome.co.uk/event/charity-santa-abseil-on-behalf-of-st-margarets-hospice/
LOCATION:Cheddar Gorge\, Cheddar Gorge\, Cheddar\, BS27 3QF\, United Kingdom
CATEGORIES:Charity Event,Christmas,Discover Frome,Fundraiser,Sport
ATTACH;FMTTYPE=image/jpeg:https://archive.discoverfrome.co.uk/wp-content/uploads/2023/10/Santa-abseil-23-poster-.jpg
ORGANIZER;CN="St%20Margaret%27s%20Hospice":MAILTO:Amy.Garland@st-margarets-hospice.org.uk
END:VEVENT
END:VCALENDAR