BEGIN:VCALENDAR
VERSION:2.0
PRODID:-//Discover Frome - ECPv4.6.26//NONSGML v1.0//EN
CALSCALE:GREGORIAN
METHOD:PUBLISH
X-WR-CALNAME:Discover Frome
X-ORIGINAL-URL:https://archive.discoverfrome.co.uk
X-WR-CALDESC:Events for Discover Frome
BEGIN:VEVENT
DTSTART;TZID=Europe/London:20240531T193000
DTEND;TZID=Europe/London:20240531T233000
DTSTAMP:20260421T105432
CREATED:20240403T151111Z
LAST-MODIFIED:20240403T151111Z
UID:68556-1717183800-1717198200@archive.discoverfrome.co.uk
SUMMARY:Charlie Simpson DJ Set
DESCRIPTION:One of the UK’s most recognisable pop-rock icons is bringing the ultimate noughties nostalgia pop party to Frome this May. As Busted & Fightstar frontman the legendary Charlie Simpson will be taking to the decks at the Cheese & Grain. \nThe night will see the biggest pop hits from the 2000’s played from the likes of McFly\, Destiny’s Child\, Steps & of course Busted! \nBusted had four UK number-one singles\, performed to sold-out arenas across the UK\, and went on to win two BRIT Awards for ‘Best Pop Act’ and ‘Best British Breakthrough’ in 2004. Over the course of their career\, the group released four studio albums\, and penned several mega hits including their debut single “What I Go To School For” and the follow up tracks “Year 3000”. \nCharlie then went off to front the massively successful rock band Fightstar\, as well as having critical and commercial acclaim with a solo career. \nHe would go on to reform Busted\, with the band’s latest record ‘Greatest Hits 2.0’\, which featured an array of high-profile collaborators such as Jonas Brothers\, James Arthur\, McFly\, You Me At Six and The Vamps\, storming to the top of the UK Albums Chart in September 2023\, securing the No. 1 position. Flightstar also announced they would be reforming in 2024 for a special show at Wembley Arena. \nDon’t miss your chance to catch Charlie in a rare non-arena up-close and personal appearance in Frome this May! \n
URL:https://archive.discoverfrome.co.uk/event/charlie-simpson-dj-set/
LOCATION:Cheese and Grain\, Market Yard\, Frome\, BA11 1BE
GEO:51.2318708;-2.3202807
X-APPLE-STRUCTURED-LOCATION;VALUE=URI;X-ADDRESS=Cheese and Grain Market Yard Frome BA11 1BE;X-APPLE-RADIUS=500;X-TITLE=Market Yard:geo:-2.3202807,51.2318708
CATEGORIES:Club Night,Discover Frome,DJ Set,Music,Nightlife
ATTACH;FMTTYPE=image/jpeg:https://archive.discoverfrome.co.uk/wp-content/uploads/2024/04/426811573_2493743687499666_7891890205428422342_n-1536x804-1.jpg
END:VEVENT
END:VCALENDAR