BEGIN:VCALENDAR
VERSION:2.0
PRODID:-//Discover Frome - ECPv4.6.26//NONSGML v1.0//EN
CALSCALE:GREGORIAN
METHOD:PUBLISH
X-WR-CALNAME:Discover Frome
X-ORIGINAL-URL:https://archive.discoverfrome.co.uk
X-WR-CALDESC:Events for Discover Frome
BEGIN:VEVENT
DTSTART;TZID=Europe/London:20230917T150000
DTEND;TZID=Europe/London:20230917T220000
DTSTAMP:20260419T221054
CREATED:20230821T112226Z
LAST-MODIFIED:20230821T112226Z
UID:62293-1694962800-1694988000@archive.discoverfrome.co.uk
SUMMARY:Cheese and Grain 25th birthday community party
DESCRIPTION:Join us as we celebrate 25 years of the Cheese and Grain and the wonderful community that has supported the venue since our doors opened in 1998 with a wonderful family friend event. With live music from Raggedy Men\, Back Of The Bus\, Big Dog\, Bit Bigger\, Frome Town Band\, Frome Street Bandits\, The Frukes\, Jackdaws’s Songbirds Choir\, Frome Youth Choir\, children’s entertainment and more. \n
URL:https://archive.discoverfrome.co.uk/event/cheese-and-grain-25th-birthday-community-party/
LOCATION:Cheese and Grain\, Market Yard\, Frome\, BA11 1BE
GEO:51.2318708;-2.3202807
X-APPLE-STRUCTURED-LOCATION;VALUE=URI;X-ADDRESS=Cheese and Grain Market Yard Frome BA11 1BE;X-APPLE-RADIUS=500;X-TITLE=Market Yard:geo:-2.3202807,51.2318708
CATEGORIES:Community,Discover Frome,Family,Music
ATTACH;FMTTYPE=image/png:https://archive.discoverfrome.co.uk/wp-content/uploads/2023/08/candgbirthday.png
END:VEVENT
END:VCALENDAR