BEGIN:VCALENDAR
VERSION:2.0
PRODID:-//Discover Frome - ECPv4.6.26//NONSGML v1.0//EN
CALSCALE:GREGORIAN
METHOD:PUBLISH
X-WR-CALNAME:Discover Frome
X-ORIGINAL-URL:https://archive.discoverfrome.co.uk
X-WR-CALDESC:Events for Discover Frome
BEGIN:VEVENT
DTSTART;TZID=Europe/London:20230610T100000
DTEND;TZID=Europe/London:20230610T170000
DTSTAMP:20260419T211931
CREATED:20230427T202326Z
LAST-MODIFIED:20230509T170945Z
UID:59657-1686391200-1686416400@archive.discoverfrome.co.uk
SUMMARY:Christ Church Open Churchyard
DESCRIPTION:Visit the tranquil churchyard with its shady trees and wild corners\, identify plants and insects and enjoy an environmental display in the church. \nBring your own picnics.  Tea and coffee and cloakroom facilities available 1pm-2pm & 3pm-4pm over the weekend. \nPart of Great Big Green Week 2023. \n
URL:https://archive.discoverfrome.co.uk/event/christ-church-open-courtyard/2023-06-10/
LOCATION:Christ Church\, Christchurch Street West\, Frome\, BA11 1EH
GEO:51.2292735;-2.3282901
X-APPLE-STRUCTURED-LOCATION;VALUE=URI;X-ADDRESS=Christ Church Christchurch Street West Frome BA11 1EH;X-APPLE-RADIUS=500;X-TITLE=Christchurch Street West:geo:-2.3282901,51.2292735
CATEGORIES:Children,Discover Frome,Environment,Family,Great Big Green Week,Nature
ATTACH;FMTTYPE=image/jpeg:https://archive.discoverfrome.co.uk/wp-content/uploads/2023/04/DJI_0109.jpg
END:VEVENT
END:VCALENDAR