BEGIN:VCALENDAR
VERSION:2.0
PRODID:-//Discover Frome - ECPv4.6.26//NONSGML v1.0//EN
CALSCALE:GREGORIAN
METHOD:PUBLISH
X-WR-CALNAME:Discover Frome
X-ORIGINAL-URL:https://archive.discoverfrome.co.uk
X-WR-CALDESC:Events for Discover Frome
BEGIN:VEVENT
DTSTART;TZID=Europe/London:20250712T130000
DTEND;TZID=Europe/London:20250712T140000
DTSTAMP:20260420T034207
CREATED:20250528T120212Z
LAST-MODIFIED:20250528T120212Z
UID:80648-1752325200-1752328800@archive.discoverfrome.co.uk
SUMMARY:Christ Church Singers - Mozart And Kodaly
DESCRIPTION:Christ Church Singers and conductor Alan Burgess present two contrasting choral masterworks; Mozart’s Vesperae solennes de confessore\, including the famous Laudate Dominum with soprano solo\, and Zoltan Kodaly’s powerful & mystical Missa Brevis\, composed in the shadow of the Second World War. \n
URL:https://archive.discoverfrome.co.uk/event/christ-church-singers-mozart-and-kodaly/
LOCATION:Christ Church\, Christchurch Street West\, Frome\, BA11 1EH
GEO:51.2292735;-2.3282901
X-APPLE-STRUCTURED-LOCATION;VALUE=URI;X-ADDRESS=Christ Church Christchurch Street West Frome BA11 1EH;X-APPLE-RADIUS=500;X-TITLE=Christchurch Street West:geo:-2.3282901,51.2292735
CATEGORIES:Concert,Discover Frome,Frome Festival,Live Band,Music
ATTACH;FMTTYPE=image/png:https://archive.discoverfrome.co.uk/wp-content/uploads/2025/05/christ-church-singers.png
ORGANIZER;CN="Frome%20Festival":MAILTO:office@fromefestival.co.uk
END:VEVENT
END:VCALENDAR