BEGIN:VCALENDAR
VERSION:2.0
PRODID:-//Discover Frome - ECPv4.6.26//NONSGML v1.0//EN
CALSCALE:GREGORIAN
METHOD:PUBLISH
X-WR-CALNAME:Discover Frome
X-ORIGINAL-URL:https://archive.discoverfrome.co.uk
X-WR-CALDESC:Events for Discover Frome
BEGIN:VEVENT
DTSTART;TZID=Europe/London:20231124T170000
DTEND;TZID=Europe/London:20231124T190000
DTSTAMP:20260419T145457
CREATED:20231024T151600Z
LAST-MODIFIED:20231123T145736Z
UID:63264-1700845200-1700852400@archive.discoverfrome.co.uk
SUMMARY:Christmas Lantern Parade and Light Switch-On
DESCRIPTION:We’re delighted to welcome back Frome Lanterns for another wonderful Christmas Lantern Parade\, this year with the theme ‘ice’. The parade will be fronted by Jamma de Samba\, providing fabulous entertainment and music. \nThe Christmas Light Switch-On will be presented by the Mayor of Frome\, with some added extra-special touches. Both the Lantern Parade and the Christmas Light Switch-On will take place from 5pm-7pm. \nThere will also be\, for the first time\, a Christmas Little Night Market from 4pm-9pm in the Market Yard. Hosted by The Frome Independent\, the Night Market will be offering up seasonal food and drink\, festive gifts and bundles of Christmas cheer. \nThis evening will be an absolute treat for Frome. Make sure to be there so you don’t miss out – bring your best festive spirit! \nCheck out the full schedule: \n4.00 A Little Night Market opens outside the library\n5.00 Music with Frome Town Band\, Rock Choir\, The Frukes and a special Ukrainian performance on the balcony\n6.00 Taking part in the parade? Head to St John’s Church by 6pm\n6.15 Fire spinning performance from Ragna Fire Collective\n6.20 Lantern Parade starts from St John’s Church\n6.45 Mayor Philip Campagna switches on the lights\n6.50 Follow the Samba party and parade down the road\nA Little Night Market is open til 9 o’clock!\n
URL:https://archive.discoverfrome.co.uk/event/christmas-lantern-parade-lights-switch-on-and-little-night-market/
LOCATION:Frome Town Centre
GEO:51.231623663092;-2.3206995621115
CATEGORIES:Children,Christmas,Community,Discover Frome,Family,Food & Drink,Frome Community,Market,Music
ATTACH;FMTTYPE=image/png:https://archive.discoverfrome.co.uk/wp-content/uploads/2023/10/FINAL-Christmas-2023-lantern-parade-poster-one-sided.png
ORGANIZER;CN="Frome%20Town%20Council":MAILTO:info@frometowncouncil.gov.uk
END:VEVENT
END:VCALENDAR