BEGIN:VCALENDAR
VERSION:2.0
PRODID:-//Discover Frome - ECPv4.6.26//NONSGML v1.0//EN
CALSCALE:GREGORIAN
METHOD:PUBLISH
X-WR-CALNAME:Discover Frome
X-ORIGINAL-URL:https://archive.discoverfrome.co.uk
X-WR-CALDESC:Events for Discover Frome
BEGIN:VEVENT
DTSTART;TZID=Europe/London:20250712T133000
DTEND;TZID=Europe/London:20250712T153000
DTSTAMP:20260420T033952
CREATED:20250528T100457Z
LAST-MODIFIED:20250528T100457Z
UID:80564-1752327000-1752334200@archive.discoverfrome.co.uk
SUMMARY:Comic Art Masterclass With Kev F
DESCRIPTION:Returning to Frome Festival\, Kev F Sutherland has written and drawn for the Beano\, Doctor Who and Marvel comics. Now he’ll teach you how easy it is. After the end of a Comic Art Masterclass\, you’ll take away a comic strip you’ve created plus an individual caricature by Kev F. Perfect for ages 7+ \n
URL:https://archive.discoverfrome.co.uk/event/comic-art-masterclass-with-kev-f-2/2025-07-12/2/
LOCATION:The Awesome Studio\, Station Approach\, Frome\, BA11 1RE\, United Kingdom
CATEGORIES:Arts,Children,crafts,Discover Frome,Family,Frome Festival,Workshop
ATTACH;FMTTYPE=image/jpeg:https://archive.discoverfrome.co.uk/wp-content/uploads/2025/05/comic-art-workshop.jpg
ORGANIZER;CN="Frome%20Festival":MAILTO:office@fromefestival.co.uk
END:VEVENT
END:VCALENDAR