BEGIN:VCALENDAR
VERSION:2.0
PRODID:-//Discover Frome - ECPv4.6.26//NONSGML v1.0//EN
CALSCALE:GREGORIAN
METHOD:PUBLISH
X-WR-CALNAME:Discover Frome
X-ORIGINAL-URL:https://archive.discoverfrome.co.uk
X-WR-CALDESC:Events for Discover Frome
BEGIN:VEVENT
DTSTART;TZID=Europe/London:20240417T190000
DTEND;TZID=Europe/London:20240417T203000
DTSTAMP:20260421T171450
CREATED:20240412T122545Z
LAST-MODIFIED:20240412T122545Z
UID:68752-1713380400-1713385800@archive.discoverfrome.co.uk
SUMMARY:Commonwealth War Graves Commission Talk
DESCRIPTION:The Commonwealth War Graves Commission are giving a talk on their work at Christ Church on Christchurch Street West on 17th April. \nThere are over 20 CWGC graves in Christ Church churchyard\, as well as the grave of corporal William Fuller VC\, whose memorial is also in the church. \nCash bar available from 1830 for pre-talk refreshments. \n
URL:https://archive.discoverfrome.co.uk/event/commonwealth-war-graves-commission-talk/
LOCATION:Christ Church\, Christchurch Street West\, Frome\, BA11 1EH
GEO:51.2292735;-2.3282901
X-APPLE-STRUCTURED-LOCATION;VALUE=URI;X-ADDRESS=Christ Church Christchurch Street West Frome BA11 1EH;X-APPLE-RADIUS=500;X-TITLE=Christchurch Street West:geo:-2.3282901,51.2292735
CATEGORIES:Discover Frome,History & Heritage,Talk
ATTACH;FMTTYPE=image/jpeg:https://archive.discoverfrome.co.uk/wp-content/uploads/2023/09/war-graves.jpg
END:VEVENT
END:VCALENDAR