BEGIN:VCALENDAR
VERSION:2.0
PRODID:-//Discover Frome - ECPv4.6.26//NONSGML v1.0//EN
CALSCALE:GREGORIAN
METHOD:PUBLISH
X-WR-CALNAME:Discover Frome
X-ORIGINAL-URL:https://archive.discoverfrome.co.uk
X-WR-CALDESC:Events for Discover Frome
BEGIN:VEVENT
DTSTART;TZID=Europe/London:20240103T080000
DTEND;TZID=Europe/London:20240103T170000
DTSTAMP:20260420T024055
CREATED:20240103T150728Z
LAST-MODIFIED:20240122T145539Z
UID:66241-1704268800-1704301200@archive.discoverfrome.co.uk
SUMMARY:Confidence in Drawing
DESCRIPTION:Join us for a relaxed\, guided workshop to gain confidence in drawing. \nFor everyone – including those who don’t consider themselves creative or have any ideas \n\nOvercome your fear of being creative\, and express yourself freely\nUn-learn the things that put you off in school\n\nThe goal of this workshop is for you to feel more confident in drawing\, by guiding you with practical techniques that can easily be repeated at home. \nOur course leads\, Cassie and Amala will be here to support you every step of the way. \nYou don’t need any prior experience or talent to participate in this workshop. You will also have the opportunity to join a supportive group discussion with other like-minded people. \n🆓 Reserve your spot for free – https://www.eventbrite.co.uk/e/confidence-in-drawing-tickets-788101953157?aff=ebdsoporgprofile \nNew date: 📅 February 1st — \nTime: 🕡 6 – 9 p.m. \n🌟 Make:Shed is a weekly workshop & community for young adults (18-35-ish) in Frome and surrounding areas. It’s a safe\, welcoming space to be yourself\, connect with others and express your creativity. We’re here every Thursday with an open session or a guided session. \n☕ Our friendly team is always ready to provide guidance and a warm welcome. And yes\, our urn is on for tea! 🍲 Plus\, we will prepare some delicious soup to share. \n📍 Find us at the Remakery in the Edventure Hub (formerly the Welsh Mill Hub)\, Frome\, BA11 5DF \n
URL:https://archive.discoverfrome.co.uk/event/confidence-in-drawing/
ATTACH;FMTTYPE=image/png:https://archive.discoverfrome.co.uk/wp-content/uploads/2024/01/Jan-led-1-3.png
END:VEVENT
END:VCALENDAR