BEGIN:VCALENDAR
VERSION:2.0
PRODID:-//Discover Frome - ECPv4.6.26//NONSGML v1.0//EN
CALSCALE:GREGORIAN
METHOD:PUBLISH
X-WR-CALNAME:Discover Frome
X-ORIGINAL-URL:https://archive.discoverfrome.co.uk
X-WR-CALDESC:Events for Discover Frome
BEGIN:VEVENT
DTSTART;TZID=Europe/London:20240919T193000
DTEND;TZID=Europe/London:20240919T213000
DTSTAMP:20260419T130219
CREATED:20240902T100804Z
LAST-MODIFIED:20240902T100804Z
UID:71889-1726774200-1726781400@archive.discoverfrome.co.uk
SUMMARY:Corset Story - by Self and Sossi
DESCRIPTION:Throughout history\, corsets have been a significant yet often controversial piece of clothing\, representing a void between patriarchy and feminism. Corset Story explores the ways constriction can take effect on the body and creativity from a female perspective. \nThrough story and song\, Self & Sossi share their musical investigation into the advantages and disadvantages of restriction and the marginalisation of women artists. \nSelf\, a composer/singer and Sossi\, a dynamic performance artist create a playfully provocative show\, featuring gorgeous music and bold physical theatre. \n
URL:https://archive.discoverfrome.co.uk/event/corset-story-by-self-and-sossi/
LOCATION:Merlin Theatre\, Bath Road\, Frome\, BA11 2HG 
GEO:51.2412644;-2.3118242
X-APPLE-STRUCTURED-LOCATION;VALUE=URI;X-ADDRESS=Merlin Theatre Bath Road Frome BA11 2HG;X-APPLE-RADIUS=500;X-TITLE=Bath Road:geo:-2.3118242,51.2412644
CATEGORIES:Arts,Clothing & Textiles,Dance,Discover Frome,History & Heritage,Music,Theatre
ATTACH;FMTTYPE=image/jpeg:https://archive.discoverfrome.co.uk/wp-content/uploads/2024/09/Corset_Story_l_event.jpg
END:VEVENT
END:VCALENDAR