BEGIN:VCALENDAR
VERSION:2.0
PRODID:-//Discover Frome - ECPv4.6.26//NONSGML v1.0//EN
CALSCALE:GREGORIAN
METHOD:PUBLISH
X-WR-CALNAME:Discover Frome
X-ORIGINAL-URL:https://archive.discoverfrome.co.uk
X-WR-CALDESC:Events for Discover Frome
BEGIN:VEVENT
DTSTART;TZID=Europe/London:20240710T193000
DTEND;TZID=Europe/London:20240710T230000
DTSTAMP:20260419T183016
CREATED:20240613T105837Z
LAST-MODIFIED:20240613T105837Z
UID:70351-1720639800-1720652400@archive.discoverfrome.co.uk
SUMMARY:CROSSING THE ROCKIES + CAMPFIRE AFTERPARTY
DESCRIPTION:Playing a lively mix of traditional and contemporary folk tunes and songs from England\, Scotland\, Ireland and America\, on traditional instruments including the fiddle\, whistle\, banjo\, mandolin and bodhran\, Crossing the Rockies are sure to get you out of your seat. Stay after the gig for a special campfire session till late! \n
URL:https://archive.discoverfrome.co.uk/event/crossing-the-rockies-campfire-afterparty/
LOCATION:The Silk Mill\, Merchants Barton\, Frome\, BA11 1PT\, United Kingdom
GEO:51.230751;-2.320096
X-APPLE-STRUCTURED-LOCATION;VALUE=URI;X-ADDRESS=The Silk Mill Merchants Barton Frome BA11 1PT United Kingdom;X-APPLE-RADIUS=500;X-TITLE=Merchants Barton:geo:-2.320096,51.230751
CATEGORIES:Discover Frome,Frome Festival,Live Band,Music
ATTACH;FMTTYPE=image/jpeg:https://archive.discoverfrome.co.uk/wp-content/uploads/2024/06/Crossing-the-Rockies-e1711365366861-713x551-1.jpeg
ORGANIZER;CN="Frome%20Festival":MAILTO:office@fromefestival.co.uk
END:VEVENT
END:VCALENDAR