BEGIN:VCALENDAR
VERSION:2.0
PRODID:-//Discover Frome - ECPv4.6.26//NONSGML v1.0//EN
CALSCALE:GREGORIAN
METHOD:PUBLISH
X-WR-CALNAME:Discover Frome
X-ORIGINAL-URL:https://archive.discoverfrome.co.uk
X-WR-CALDESC:Events for Discover Frome
BEGIN:VEVENT
DTSTART;TZID=Europe/London:20250530T190000
DTEND;TZID=Europe/London:20250530T223000
DTSTAMP:20260421T124223
CREATED:20250422T161401Z
LAST-MODIFIED:20250422T161401Z
UID:79550-1748631600-1748644200@archive.discoverfrome.co.uk
SUMMARY:Curtis Stigers
DESCRIPTION:\n\n\nInspired marriage of visceral clout and intellectual savvy. —New York Times \n\n\n\n\nI cannot think of another vocalist who creates such an exuberant combination of bebop artistry and raw emotion. —London Sunday Times\n\n\n\nWhen Curtis Stigers came on stage on Wednesday night\, it felt as if someone had upped the wattage in the bulbs.” —Wall Street Journal\n\nCurtis Stigers defies categorization. Over a 30-year career\, the singer\, songwriter\, and saxophonist has released 13 studio albums spanning pop\, soul\, and jazz\, with hits like “I Wonder Why” and an Emmy-nominated theme song for Sons of Anarchy. Stigers has collaborated with legends like Carole King and Al Green\, toured globally\, and reimagined songs by artists ranging from Gershwin to Leonard Cohen. His latest album\, This Life\, revisits highlights from his diverse career\, showcasing evolved arrangements born from years of live performances. Raised in Idaho\, Stigers continues to create\, perform\, and give back to his community in Boise. \n
URL:https://archive.discoverfrome.co.uk/event/curtis-stigers/
LOCATION:Cheese and Grain\, Market Yard\, Frome\, BA11 1BE
GEO:51.2318708;-2.3202807
X-APPLE-STRUCTURED-LOCATION;VALUE=URI;X-ADDRESS=Cheese and Grain Market Yard Frome BA11 1BE;X-APPLE-RADIUS=500;X-TITLE=Market Yard:geo:-2.3202807,51.2318708
CATEGORIES:Concert,Discover Frome,Live Band,Music,Nightlife
ATTACH;FMTTYPE=image/png:https://archive.discoverfrome.co.uk/wp-content/uploads/2025/04/Facebook-eventStigers-1024x536-1.png
END:VEVENT
END:VCALENDAR