BEGIN:VCALENDAR
VERSION:2.0
PRODID:-//Discover Frome - ECPv4.6.26//NONSGML v1.0//EN
CALSCALE:GREGORIAN
METHOD:PUBLISH
X-WR-CALNAME:Discover Frome
X-ORIGINAL-URL:https://archive.discoverfrome.co.uk
X-WR-CALDESC:Events for Discover Frome
BEGIN:VEVENT
DTSTART;TZID=Europe/London:20240112T193000
DTEND;TZID=Europe/London:20240112T223000
DTSTAMP:20260419T171557
CREATED:20231206T141644Z
LAST-MODIFIED:20231206T141644Z
UID:65857-1705087800-1705098600@archive.discoverfrome.co.uk
SUMMARY:David Olusoga
DESCRIPTION:THE STATE OF THE BRITISH UNION\, WHY BLACK HISTORY MATTERS \nFollowing his recent four-part BBC documentary\, ‘Union’ – BAFTA award winning professor\, ‘David Olusoga’ examines why black history matters\, the causes of the ‘history wars’ and asks where they might lead us. \nHistory is now front-page news\, contested as never before. Statues have fallen and the reputations of great men called into question. In this talk\, Professor David Olusoga examines the causes of the ‘history wars’ and asks where they might lead us. \nDavid Olusoga is a historian\, writer and broadcaster. He’s the presenter of the BBC show\, A House Through Time and the author of Black and British: A Forgotten History. As Professor of Public History at the University of Manchester\, David is an expert at examining what history reveals about contemporary society. \nThere will be a book signing at this event\, in association with Hunting Raven Books\, Frome. \n
URL:https://archive.discoverfrome.co.uk/event/david-olusoga/
LOCATION:Cheese and Grain\, Market Yard\, Frome\, BA11 1BE
GEO:51.2318708;-2.3202807
X-APPLE-STRUCTURED-LOCATION;VALUE=URI;X-ADDRESS=Cheese and Grain Market Yard Frome BA11 1BE;X-APPLE-RADIUS=500;X-TITLE=Market Yard:geo:-2.3202807,51.2318708
CATEGORIES:Discover Frome,History & Heritage,Talk
ATTACH;FMTTYPE=image/jpeg:https://archive.discoverfrome.co.uk/wp-content/uploads/2023/12/David-Olasuga-fb-banner.jpg
END:VEVENT
END:VCALENDAR