BEGIN:VCALENDAR
VERSION:2.0
PRODID:-//Discover Frome - ECPv4.6.26//NONSGML v1.0//EN
CALSCALE:GREGORIAN
METHOD:PUBLISH
X-WR-CALNAME:Discover Frome
X-ORIGINAL-URL:https://archive.discoverfrome.co.uk
X-WR-CALDESC:Events for Discover Frome
BEGIN:VEVENT
DTSTART;TZID=Europe/London:20250131T190000
DTEND;TZID=Europe/London:20250131T230000
DTSTAMP:20260419T145037
CREATED:20241212T142131Z
LAST-MODIFIED:20241212T142131Z
UID:73425-1738350000-1738364400@archive.discoverfrome.co.uk
SUMMARY:Dire Streets
DESCRIPTION:Dire Streets bring to life the classic songs of one of the world’s greatest guitar bands with a level of musicianship and attention to detail that makes them the stand out Dire Straits tribute in the UK. \nThe two-hour theatre show includes faithful renditions of classic studio tracks along with extended live versions from some of the legendary Dire Straits concerts. \nFor over a decade\, Dire Streets have performed Dire Straits’ incredible back catalogue to thousands of theatre-goers across the UK. \nNo other Dire Streets tribute act comes as close to reproducing Mark Knopfler’s distinctive guitar and vocal tones – making Dire Streets as near to the original band as you can see live. \nThe six-piece band is made up of some of the country’s top tribute musicians and delivers a stunning show that fulfils their mission of doing justice to one of the most original and talented bands the UK has ever produced. \nThe band makes no attempt to look like the original so no headbands or pink suits\, just brilliant songs skilfully played with the enthusiasm and respect they deserve. \n
URL:https://archive.discoverfrome.co.uk/event/dire-streets/
LOCATION:Cheese and Grain\, Market Yard\, Frome\, BA11 1BE
GEO:51.2318708;-2.3202807
X-APPLE-STRUCTURED-LOCATION;VALUE=URI;X-ADDRESS=Cheese and Grain Market Yard Frome BA11 1BE;X-APPLE-RADIUS=500;X-TITLE=Market Yard:geo:-2.3202807,51.2318708
CATEGORIES:Concert,Discover Frome,Live Band,Music,Nightlife
ATTACH;FMTTYPE=image/jpeg:https://archive.discoverfrome.co.uk/wp-content/uploads/2024/12/Dire-Streets-1024x600-1-1-1.jpg
END:VEVENT
END:VCALENDAR