BEGIN:VCALENDAR
VERSION:2.0
PRODID:-//Discover Frome - ECPv4.6.26//NONSGML v1.0//EN
CALSCALE:GREGORIAN
METHOD:PUBLISH
X-WR-CALNAME:Discover Frome
X-ORIGINAL-URL:https://archive.discoverfrome.co.uk
X-WR-CALDESC:Events for Discover Frome
BEGIN:VEVENT
DTSTART;TZID=Europe/London:20230629T200000
DTEND;TZID=Europe/London:20230629T220000
DTSTAMP:20260419T130219
CREATED:20230601T115815Z
LAST-MODIFIED:20230601T115815Z
UID:61141-1688068800-1688076000@archive.discoverfrome.co.uk
SUMMARY:Dirty Laundry
DESCRIPTION:Live storytelling and spoken word poetry night with open mic. Featuring special guest\, world poetry slam champion Harry Baker. Harry has taken his unique blend of wit and wordplay all around the world. And now he’s bringing it to Frome. \n“Simply put… The greatest performer on Earth” ★★★★★ Scott Mills Show\, Radio 1 \nGot something to share? Get in touch to sign up for the open mic. It’s a friendly space and you’re welcome whether it’s your first time performing or your umpteenth. \nThis month’s theme – Resistance \nStanding strong\, holding firm\, not backing down. Underground\, silently seething or loud and proud. Stretched to breaking point\, pushed to the limit\, at the end of your tether. Flexing\, bending\, giving way. Conforming\, committing\, suing for peace. Finding the strength to change the things you can and accept the things you can’t. \n
URL:https://archive.discoverfrome.co.uk/event/dirty-laundry-spoken-word-storytelling/
LOCATION:Archangel\, 1 King Street\, Frome\, BA11 1BH
GEO:51.2311843;-2.3209068
X-APPLE-STRUCTURED-LOCATION;VALUE=URI;X-ADDRESS=Archangel 1 King Street Frome BA11 1BH;X-APPLE-RADIUS=500;X-TITLE=1 King Street:geo:-2.3209068,51.2311843
CATEGORIES:Discover Frome,Spoken word
ATTACH;FMTTYPE=image/jpeg:https://archive.discoverfrome.co.uk/wp-content/uploads/2023/06/Dirty.jpg
ORGANIZER;CN="Olly%20Davy":MAILTO:ollydavy@gmail.com
END:VEVENT
END:VCALENDAR