BEGIN:VCALENDAR
VERSION:2.0
PRODID:-//Discover Frome - ECPv4.6.26//NONSGML v1.0//EN
CALSCALE:GREGORIAN
METHOD:PUBLISH
X-WR-CALNAME:Discover Frome
X-ORIGINAL-URL:https://archive.discoverfrome.co.uk
X-WR-CALDESC:Events for Discover Frome
BEGIN:VEVENT
DTSTART;TZID=Europe/London:20230617T100000
DTEND;TZID=Europe/London:20230617T120000
DTSTAMP:20260419T135555
CREATED:20230522T083149Z
LAST-MODIFIED:20230522T083622Z
UID:60580-1686996000-1687003200@archive.discoverfrome.co.uk
SUMMARY:Dirty Water Action
DESCRIPTION:Join groups of concerned people highlighting the effects of the amount of pollution in our River Frome  and the lack of action taken by Wessex Water. \nMarching from the well at the top of Cheap Street\, through the town centre. \n
URL:https://archive.discoverfrome.co.uk/event/dirty-water-action/
LOCATION:Holy Well\, King Street\, Frome\, BA11
CATEGORIES:Discover Frome,Great Big Green Week
ATTACH;FMTTYPE=image/jpeg:https://archive.discoverfrome.co.uk/wp-content/uploads/2021/04/River-Frome.jpg
END:VEVENT
END:VCALENDAR