BEGIN:VCALENDAR
VERSION:2.0
PRODID:-//Discover Frome - ECPv4.6.26//NONSGML v1.0//EN
CALSCALE:GREGORIAN
METHOD:PUBLISH
X-WR-CALNAME:Discover Frome
X-ORIGINAL-URL:https://archive.discoverfrome.co.uk
X-WR-CALDESC:Events for Discover Frome
BEGIN:VEVENT
DTSTART;TZID=Europe/London:20230517T100000
DTEND;TZID=Europe/London:20230517T111500
DTSTAMP:20260420T030902
CREATED:20230504T123421Z
LAST-MODIFIED:20230504T123421Z
UID:59970-1684317600-1684322100@archive.discoverfrome.co.uk
SUMMARY:Dissenters Walk
DESCRIPTION:In the 1660s English society experiences religious\, social and industrial upheavals. In Frome\, Molly-Ann and her brothers Ben and Nathaniel struggle to make ends meet after their family is impoverished. The changing times offer new opportunities – some less reputable than others – but while a few succeed in attaining great wealth\, for others the threat of poverty\, starvation or the gallows is always present . . . \nFollow in the footsteps of Molly-Ann and her brothers on this 75 minute walk with the author of Dissenters – Liz Hutchinson. \nVisit many of the places mentioned in the novel and learn about the inspiration behind its writing. \nAccess: some steep gradients. \nMeet outside Frome Library. Copies of the novel will be available for sale. \n
URL:https://archive.discoverfrome.co.uk/event/dissenters-walk/
LOCATION:Outside Frome Library\, Justice Lane\, Frome\, Somerset\, BA11 1BE\, United Kingdom
GEO:51.2327716;-2.3203906
X-APPLE-STRUCTURED-LOCATION;VALUE=URI;X-ADDRESS=Outside Frome Library Justice Lane Frome Somerset BA11 1BE United Kingdom;X-APPLE-RADIUS=500;X-TITLE=Justice Lane:geo:-2.3203906,51.2327716
CATEGORIES:Discover Frome,Frome Local History Festival,Guided Walks,Walks
ATTACH;FMTTYPE=image/jpeg:https://archive.discoverfrome.co.uk/wp-content/uploads/2023/05/Dissenters-illustration.jpg
END:VEVENT
END:VCALENDAR