BEGIN:VCALENDAR
VERSION:2.0
PRODID:-//Discover Frome - ECPv4.6.26//NONSGML v1.0//EN
CALSCALE:GREGORIAN
METHOD:PUBLISH
X-WR-CALNAME:Discover Frome
X-ORIGINAL-URL:https://archive.discoverfrome.co.uk
X-WR-CALDESC:Events for Discover Frome
BEGIN:VEVENT
DTSTART;TZID=Europe/London:20240612T100000
DTEND;TZID=Europe/London:20240612T160000
DTSTAMP:20260419T123241
CREATED:20240502T095211Z
LAST-MODIFIED:20240502T095223Z
UID:69050-1718186400-1718208000@archive.discoverfrome.co.uk
SUMMARY:Dr Bike and advice at Frome Community Bike Project
DESCRIPTION:Frome Community Bike Project are putting on free bike checks and offering advice from their base at Station Approach. \n
URL:https://archive.discoverfrome.co.uk/event/dr-bike-and-advice-at-frome-community-bike-project/2024-06-12/
LOCATION:Frome Community Bike Project Workshop\, Frome\, United Kingdom
CATEGORIES:Community,Discover Frome,Great Big Green Week,Health & Wellbeing,Support,Workshop
ATTACH;FMTTYPE=image/jpeg:https://archive.discoverfrome.co.uk/wp-content/uploads/2024/02/Frome-Community-Bike-Project.jpg
ORGANIZER;CN="Frome%20Community%20Bike%20Project":MAILTO:hello@fromebikeproject.org
END:VEVENT
END:VCALENDAR