BEGIN:VCALENDAR
VERSION:2.0
PRODID:-//Discover Frome - ECPv4.6.26//NONSGML v1.0//EN
CALSCALE:GREGORIAN
METHOD:PUBLISH
X-WR-CALNAME:Discover Frome
X-ORIGINAL-URL:https://archive.discoverfrome.co.uk
X-WR-CALDESC:Events for Discover Frome
BEGIN:VEVENT
DTSTART;TZID=Europe/London:20250611T160000
DTEND;TZID=Europe/London:20250611T190000
DTSTAMP:20260421T111440
CREATED:20250506T142655Z
LAST-MODIFIED:20250506T142655Z
UID:79723-1749657600-1749668400@archive.discoverfrome.co.uk
SUMMARY:Drop-in Dr Bike
DESCRIPTION:Stop by the Frome Community Bike Project workshop and we’ll answer all your cycling questions! \nNeed tips on bike maintenance? No problem! A mechanic will be on hand to answer your questions and show you how to fix minor issues. \nCurious about cycling around in Frome? We’ve got you covered with maps\, accessories and friendly volunteers ready to share helpful advice. \nPlus\, there’ll be fun activities to keep the kids entertained while you chat bikes! \nPart of Great Big Green Week 2025. \n
URL:https://archive.discoverfrome.co.uk/event/drop-in-dr-bike/
LOCATION:Frome Community Bike Project Workshop\, Frome\, United Kingdom
CATEGORIES:Discover Frome,Great Big Green Week,Health & Wellbeing,Support,Sustainability
ATTACH;FMTTYPE=image/jpeg:https://archive.discoverfrome.co.uk/wp-content/uploads/2025/05/490847498_666435552806935_1322245834043705287_n.jpg
ORGANIZER;CN="Frome%20Community%20Bike%20Project":MAILTO:hello@fromebikeproject.org
END:VEVENT
END:VCALENDAR