BEGIN:VCALENDAR
VERSION:2.0
PRODID:-//Discover Frome - ECPv4.6.26//NONSGML v1.0//EN
CALSCALE:GREGORIAN
METHOD:PUBLISH
X-WR-CALNAME:Discover Frome
X-ORIGINAL-URL:https://archive.discoverfrome.co.uk
X-WR-CALDESC:Events for Discover Frome
BEGIN:VEVENT
DTSTART;TZID=Europe/London:20240402T084500
DTEND;TZID=Europe/London:20240402T160000
DTSTAMP:20260419T132100
CREATED:20240327T093958Z
LAST-MODIFIED:20240327T093958Z
UID:68366-1712047500-1712073600@archive.discoverfrome.co.uk
SUMMARY:Easter Holiday Club
DESCRIPTION:Spend a day ​in the gym ​with coached and free play gymnastics\, arts and ​crafts and games. \nDrop off at 8:45 and collection at 3 or 4pm. \n£33 or £35 depending on pick up time. \nOpen to all school age children who are members or Non members. \nPlease send your child in clothing that is suitable for a day in the gym\, i.e. leggings/joggers and a t shirt and hoodie. They will need a packed lunch – NO NUTS please and a drinks bottle that they can refill throughout the day. \nPlease ensure you put a contact number on the booking form that we can contact you with during the day if required. \n
URL:https://archive.discoverfrome.co.uk/event/easter-holiday-club/
LOCATION:Liberty Gymnastics Club\, Unit D\, Vallis Trading Estate\, Robins Lane\,\, Frome\, Somerset\, BA11 3DT\, United Kingdom
CATEGORIES:Arts,Children,Coaching,crafts,Discover Frome,Half Term & Holidays,Sport
ATTACH;FMTTYPE=image/jpeg:https://archive.discoverfrome.co.uk/wp-content/uploads/2024/03/liberty-gymnastics.jpg
END:VEVENT
END:VCALENDAR