BEGIN:VCALENDAR
VERSION:2.0
PRODID:-//Discover Frome - ECPv4.6.26//NONSGML v1.0//EN
CALSCALE:GREGORIAN
METHOD:PUBLISH
X-WR-CALNAME:Discover Frome
X-ORIGINAL-URL:https://archive.discoverfrome.co.uk
X-WR-CALDESC:Events for Discover Frome
BEGIN:VEVENT
DTSTART;TZID=Europe/London:20240711T120000
DTEND;TZID=Europe/London:20240711T133000
DTSTAMP:20260419T135959
CREATED:20240708T131226Z
LAST-MODIFIED:20240708T131317Z
UID:71075-1720699200-1720704600@archive.discoverfrome.co.uk
SUMMARY:Edventure: Community Conversation & Lunch
DESCRIPTION:Sign up only through Eventbrite for free by clicking here \nEnjoy lunch with us\, learn about our work in Frome\, and join the discussion about what’s coming up next \nJoin for lunch\, community and connection. This will be a casual event and an opportunity for you to get to know Edventure\, meet the team\, and discover how you can get involved. \nLearn about our experiential approach to incubating enterprises and projects\, and the projects that have been borne out of our approach. You’ll get the opportunity to meet our staff and partners\, ask the questions that are important to you and receive honest\, nuts & bolts answers \nThere will be plenty of time to chat and ask questions\, and a hearty lunch to sustain the conversation! \nThe event is free and lunch will be around £10 (TBC). \nSign up only through Eventbrite for free by clicking here \n
URL:https://archive.discoverfrome.co.uk/event/edventure-community-conversation-lunch/
LOCATION:Edventure: Frome\, The Welsh Mill Hub\, Frome\, England\, BA11 2LE
ATTACH;FMTTYPE=image/png:https://archive.discoverfrome.co.uk/wp-content/uploads/2024/07/Edventure-Socials-10.png
ORGANIZER;CN="Edventure%3AFrome":MAILTO:info@dventurefrome.org
END:VEVENT
END:VCALENDAR