BEGIN:VCALENDAR
VERSION:2.0
PRODID:-//Discover Frome - ECPv4.6.26//NONSGML v1.0//EN
CALSCALE:GREGORIAN
METHOD:PUBLISH
X-WR-CALNAME:Discover Frome
X-ORIGINAL-URL:https://archive.discoverfrome.co.uk
X-WR-CALDESC:Events for Discover Frome
BEGIN:VEVENT
DTSTART;TZID=Europe/London:20230614T193000
DTEND;TZID=Europe/London:20230614T213000
DTSTAMP:20260421T095538
CREATED:20230605T113533Z
LAST-MODIFIED:20230605T113533Z
UID:61249-1686771000-1686778200@archive.discoverfrome.co.uk
SUMMARY:ELGAR AND SCHUBERT – QUORUM WITH CHARLES WIFFEN
DESCRIPTION:Quorum are delighted to be back with two magnificent works – Elgar’s enigmatic piano quintet\, written in the aftermath of the First World War\, and Schubert’s string quintet in C\, a profound work written shortly before his death in 1828. Alison Townley\, Lucy Hewson\, Stefanie Heichelheim and Keith Tempest are joined by pianist Charles Wiffen and cellist Matthew Greswell. \n
URL:https://archive.discoverfrome.co.uk/event/elgar-and-schubert-quorum-with-charles-wiffen/
LOCATION:Christ Church\, Christchurch Street West\, Frome\, BA11 1EH
GEO:51.2292735;-2.3282901
X-APPLE-STRUCTURED-LOCATION;VALUE=URI;X-ADDRESS=Christ Church Christchurch Street West Frome BA11 1EH;X-APPLE-RADIUS=500;X-TITLE=Christchurch Street West:geo:-2.3282901,51.2292735
CATEGORIES:Discover Frome,Frome Festival,Music
ATTACH;FMTTYPE=image/jpeg:https://archive.discoverfrome.co.uk/wp-content/uploads/2023/06/1004-CLARINET-e1683272864142-768x720-2.jpg
ORGANIZER;CN="Frome%20Festival":MAILTO:office@fromefestival.co.uk
END:VEVENT
END:VCALENDAR