BEGIN:VCALENDAR
VERSION:2.0
PRODID:-//Discover Frome - ECPv4.6.26//NONSGML v1.0//EN
CALSCALE:GREGORIAN
METHOD:PUBLISH
X-WR-CALNAME:Discover Frome
X-ORIGINAL-URL:https://archive.discoverfrome.co.uk
X-WR-CALDESC:Events for Discover Frome
BEGIN:VEVENT
DTSTART;TZID=Europe/London:20240402T133000
DTEND;TZID=Europe/London:20240402T150000
DTSTAMP:20260419T193247
CREATED:20240326T144834Z
LAST-MODIFIED:20240326T144834Z
UID:68326-1712064600-1712070000@archive.discoverfrome.co.uk
SUMMARY:Elsa & Anna themed Junior Musical Theatre Workshop
DESCRIPTION:Nicole will be running an “Elsa & Anna” themed JUNIOR Musical Theatre workshop on Tuesday 2nd April for children aged 3 – 6 years. They will have the opportunity to do ballet\, singing and dancing and they can dress up in their Elsa & Anna clothing. \nThey must bring a bottle of water\, but snacks will be provided. They can dress as “Elsa & Anna” but we ask for all clothing and footwear to be suitable for dancing. \nIf you would like to book a place\, please email: debbie@danceworksfrome.co.uk \n
URL:https://archive.discoverfrome.co.uk/event/elsa-anna-themed-junior-musical-theatre-workshop/
LOCATION:Danceworks Studio\, Frome Rugby Club\, Gypsy Lane\, Frome\, BA11 2NA
CATEGORIES:Arts,Children,Discover Frome,Film,Half Term & Holidays,kids singing,Music,Musical,Theatre,Workshop
ATTACH;FMTTYPE=image/jpeg:https://archive.discoverfrome.co.uk/wp-content/uploads/2024/03/danceworks-elsa-and-anna.jpg
END:VEVENT
END:VCALENDAR