BEGIN:VCALENDAR
VERSION:2.0
PRODID:-//Discover Frome - ECPv4.6.26//NONSGML v1.0//EN
CALSCALE:GREGORIAN
METHOD:PUBLISH
X-WR-CALNAME:Discover Frome
X-ORIGINAL-URL:https://archive.discoverfrome.co.uk
X-WR-CALDESC:Events for Discover Frome
BEGIN:VEVENT
DTSTART;TZID=Europe/London:20250705T110000
DTEND;TZID=Europe/London:20250705T120000
DTSTAMP:20260419T132104
CREATED:20250528T134041Z
LAST-MODIFIED:20250528T134041Z
UID:80135-1751713200-1751716800@archive.discoverfrome.co.uk
SUMMARY:Family Pond Dip
DESCRIPTION:Engage with nature\, search for bugs by the water\, inspect them under the microscope and do some nature-inspired crafts. This Science Boost CIC event is aimed at families of young children\, who must be accompanied by an adult for the whole event. Donations accepted. \n
URL:https://archive.discoverfrome.co.uk/event/family-pond-dip/
LOCATION:The Roundhouse\, The Other Side\, Frome\, BA11 2AA
CATEGORIES:Children,crafts,Discover Frome,Family,Frome Festival,Nature
ATTACH;FMTTYPE=image/jpeg:https://archive.discoverfrome.co.uk/wp-content/uploads/2025/05/pon-dip-2024-e1743005336999-980x551-1.jpg
ORGANIZER;CN="Frome%20Festival":MAILTO:office@fromefestival.co.uk
END:VEVENT
END:VCALENDAR