BEGIN:VCALENDAR
VERSION:2.0
PRODID:-//Discover Frome - ECPv4.6.26//NONSGML v1.0//EN
CALSCALE:GREGORIAN
METHOD:PUBLISH
X-WR-CALNAME:Discover Frome
X-ORIGINAL-URL:https://archive.discoverfrome.co.uk
X-WR-CALDESC:Events for Discover Frome
BEGIN:VEVENT
DTSTART;TZID=Europe/London:20240817T140000
DTEND;TZID=Europe/London:20240817T140000
DTSTAMP:20260419T121510
CREATED:20240702T101449Z
LAST-MODIFIED:20240812T110004Z
UID:70914-1723903200-1723903200@archive.discoverfrome.co.uk
SUMMARY:Family Walk with Frome's Missing Links - Walking Festival
DESCRIPTION:\n\nPart of Frome Walking Festival – 18 walks over 3 days.  \nJoin Frome’s Missing Links for a 2-mile\, family-friendly walk along the charity’s recently completed section of path through Whatcombe Fields\, along the river\, to the poplar woods near Selwood Hall. \nThere will be plenty to spot along the way and an activity sheet at the end. \nThe route is suitable for buggies\, scooters\, and small feet\, and will be walkable whatever the weather. \nThis a relaxed walk\, lasting an hour or two. Stay as long as you like. \nThere is a suggested donation of £5 per family for this walk\, to support Frome’s Missing Links. Please donate on the day if you can. \n\n\nLOCATION\nCheese and Grain\, Frome\, BA11 1BE \nBook your ticket here \n\n
URL:https://archive.discoverfrome.co.uk/event/family-walk-with-fromes-missing-links-walking-festival/
LOCATION:Cheese and Grain Car Park\, Market Yard\, Frome\, BA111BE
GEO:51.2313518;-2.3213087
X-APPLE-STRUCTURED-LOCATION;VALUE=URI;X-ADDRESS=Cheese and Grain Car Park Market Yard Frome BA111BE;X-APPLE-RADIUS=500;X-TITLE=Market Yard:geo:-2.3213087,51.2313518
CATEGORIES:Discover Frome,Walking Festival,Walks
ATTACH;FMTTYPE=image/jpeg:https://archive.discoverfrome.co.uk/wp-content/uploads/2024/07/missing-links.jpg
END:VEVENT
END:VCALENDAR